BEGIN:VCALENDAR
VERSION:2.0
PRODID:-//Parco dei Monti Lucretili - ECPv6.15.20//NONSGML v1.0//EN
CALSCALE:GREGORIAN
METHOD:PUBLISH
X-WR-CALNAME:Parco dei Monti Lucretili
X-ORIGINAL-URL:https://parcolucretili.it
X-WR-CALDESC:Eventi per Parco dei Monti Lucretili
REFRESH-INTERVAL;VALUE=DURATION:PT1H
X-Robots-Tag:noindex
X-PUBLISHED-TTL:PT1H
BEGIN:VTIMEZONE
TZID:Europe/Rome
BEGIN:DAYLIGHT
TZOFFSETFROM:+0100
TZOFFSETTO:+0200
TZNAME:CEST
DTSTART:20240331T010000
END:DAYLIGHT
BEGIN:STANDARD
TZOFFSETFROM:+0200
TZOFFSETTO:+0100
TZNAME:CET
DTSTART:20241027T010000
END:STANDARD
BEGIN:DAYLIGHT
TZOFFSETFROM:+0100
TZOFFSETTO:+0200
TZNAME:CEST
DTSTART:20250330T010000
END:DAYLIGHT
BEGIN:STANDARD
TZOFFSETFROM:+0200
TZOFFSETTO:+0100
TZNAME:CET
DTSTART:20251026T010000
END:STANDARD
BEGIN:DAYLIGHT
TZOFFSETFROM:+0100
TZOFFSETTO:+0200
TZNAME:CEST
DTSTART:20260329T010000
END:DAYLIGHT
BEGIN:STANDARD
TZOFFSETFROM:+0200
TZOFFSETTO:+0100
TZNAME:CET
DTSTART:20261025T010000
END:STANDARD
END:VTIMEZONE
BEGIN:VEVENT
DTSTART;TZID=Europe/Rome:20250510T090000
DTEND;TZID=Europe/Rome:20250510T180000
DTSTAMP:20260423T062533
CREATED:20250423T070247Z
LAST-MODIFIED:20250423T070247Z
UID:13955-1746867600-1746900000@parcolucretili.it
SUMMARY:Giornata di studio e formazione - L'Aniene e le vie dell'acqua
DESCRIPTION:Una giornata di studio e formazione sul tema delle azioni a tutela del paesaggio dal punto di vista storico\, naturalistico ed economico. L’iniziativa è rivolta principalmente agli studenti delle scuole superiori\, a studenti universitari e a giovani professionisti (dai 18 ai 30 anni). Parteciperanno rappresentanti delle varie autorità ed istituzioni (locali\, regionali e nazionali)\, ivi compresa la Sapienza Università di Roma\, che consentiranno di analizzare le varie problematiche da un punto di vista completo e prospettico. \nDOMANDA DI ADESIONE \nPROGRAMMA DELLA GIORNATA
URL:https://parcolucretili.it/event/giornata-di-studio-e-formazione-laniene-e-le-vie-dellacqua/
LOCATION:Subiaco\, Piazzale Santa Scolastica\, Subiaco\, ROMA\, 00028\, Italy
CATEGORIES:Studio e Formazione
ATTACH;FMTTYPE=application/pdf:https://parcolucretili.it/wp-content/uploads/2025/04/Rotary-presentazione-e-scheda-1.pdf
END:VEVENT
END:VCALENDAR