BEGIN:VCALENDAR
VERSION:2.0
PRODID:-//Parco dei Monti Lucretili - ECPv6.15.20//NONSGML v1.0//EN
CALSCALE:GREGORIAN
METHOD:PUBLISH
X-WR-CALNAME:Parco dei Monti Lucretili
X-ORIGINAL-URL:https://parcolucretili.it
X-WR-CALDESC:Eventi per Parco dei Monti Lucretili
REFRESH-INTERVAL;VALUE=DURATION:PT1H
X-Robots-Tag:noindex
X-PUBLISHED-TTL:PT1H
BEGIN:VTIMEZONE
TZID:Europe/Rome
BEGIN:DAYLIGHT
TZOFFSETFROM:+0100
TZOFFSETTO:+0200
TZNAME:CEST
DTSTART:20230326T010000
END:DAYLIGHT
BEGIN:STANDARD
TZOFFSETFROM:+0200
TZOFFSETTO:+0100
TZNAME:CET
DTSTART:20231029T010000
END:STANDARD
BEGIN:DAYLIGHT
TZOFFSETFROM:+0100
TZOFFSETTO:+0200
TZNAME:CEST
DTSTART:20240331T010000
END:DAYLIGHT
BEGIN:STANDARD
TZOFFSETFROM:+0200
TZOFFSETTO:+0100
TZNAME:CET
DTSTART:20241027T010000
END:STANDARD
BEGIN:DAYLIGHT
TZOFFSETFROM:+0100
TZOFFSETTO:+0200
TZNAME:CEST
DTSTART:20250330T010000
END:DAYLIGHT
BEGIN:STANDARD
TZOFFSETFROM:+0200
TZOFFSETTO:+0100
TZNAME:CET
DTSTART:20251026T010000
END:STANDARD
BEGIN:DAYLIGHT
TZOFFSETFROM:+0100
TZOFFSETTO:+0200
TZNAME:CEST
DTSTART:20260329T010000
END:DAYLIGHT
BEGIN:STANDARD
TZOFFSETFROM:+0200
TZOFFSETTO:+0100
TZNAME:CET
DTSTART:20261025T010000
END:STANDARD
END:VTIMEZONE
BEGIN:VEVENT
DTSTART;TZID=Europe/Rome:20250112T103000
DTEND;TZID=Europe/Rome:20250112T160000
DTSTAMP:20260419T170356
CREATED:20241230T080041Z
LAST-MODIFIED:20241229T092915Z
UID:13703-1736677800-1736697600@parcolucretili.it
SUMMARY:Mentana\, Terra dell'olio DOP Sabina
DESCRIPTION:PROGRAMMA \nOre 10.30 Degustazione olio EVO a cura di Unaprol Evoo School \nOre 11.00 Convegno dal titolo L’OLIO DOP SABINA A MENTANA\, IL TURISMO ESPERIENZALE E LE OPPORTUNITA’ DERIVANTI DAL CAMMINO “DA FRANCESCO A FRANCESCO” modera Simone Forte \nIntervengono:\nIl Presidente della Pro Loco di Mentana ALFREDO BARTOLINO\nIl Presidente della Pro Loco di Palombara Sabina PIETRO LUCIANI\nIl Presidente del Consorzio della DOP Sabina ALESSANDRO DONATI\nIl Commissario del Parco dei Monti Lucretili MARCO PIERGOTTI\nIl Presidente dell’Associazione Nonne with Grandma CHIARA NICOLANTI\nconclude l’On. ALESSANDRO PALOMBI \nOre 12.30 SHOW COOKING a cura dell’Associazione Nonne with Grandma
URL:https://parcolucretili.it/event/mentana-terra-dellolio-dop-sabina/
LOCATION:Mentana\, Via del Conventino\, 96\, Mentana\, ROMA\, 00013\, Italy
CATEGORIES:Convegni,Manifestazione enogastronomica
ATTACH;FMTTYPE=image/jpeg:https://parcolucretili.it/wp-content/uploads/2024/12/e3d2d325-c69d-4a9f-974b-3167e024764a.jpg
ORGANIZER;CN="Parco Naturale Regionale dei Monti Lucretili":MAILTO:info@parcolucretili.it
END:VEVENT
BEGIN:VEVENT
DTSTART;TZID=Europe/Rome:20250105T100000
DTEND;TZID=Europe/Rome:20250105T190000
DTSTAMP:20260419T170356
CREATED:20241219T134708Z
LAST-MODIFIED:20241219T134708Z
UID:13655-1736071200-1736103600@parcolucretili.it
SUMMARY:Percorso Enogastronomico Marcellina
DESCRIPTION:5 gennaio 2025 ore 10:00 Marcellina \nUn’indimenticabile giornata dedicata ai sapori e alle tradizioni\, con un percorso enogastronomico che celebra il Natale tra piatti tipici\, Olio Evo e un’atmosfera magica \n\nLaboratorio di Olio evo\nLaboratorio di pasta fatta a mano\nDegustazionee di prodotti tipici
URL:https://parcolucretili.it/event/percorso-enogastronomico-marcellina/
LOCATION:Marcellina\, Piazza del Mercato\, Marcellina\, 00010\, Italia
CATEGORIES:Manifestazione enogastronomica
ATTACH;FMTTYPE=image/jpeg:https://parcolucretili.it/wp-content/uploads/2024/12/enogastronomica-marcellina-5-gennaio-scaled.jpg
ORGANIZER;CN="Parco Naturale Regionale dei Monti Lucretili":MAILTO:info@parcolucretili.it
END:VEVENT
BEGIN:VEVENT
DTSTART;TZID=Europe/Rome:20241215T100000
DTEND;TZID=Europe/Rome:20241215T230000
DTSTAMP:20260419T170356
CREATED:20241206T121745Z
LAST-MODIFIED:20241212T081551Z
UID:13587-1734256800-1734303600@parcolucretili.it
SUMMARY:Sapori del Natale vicovarese
DESCRIPTION:15 dicembre 2024 \nCentro storico e Castello Cenci Bolognetti  \nore 10:00\nAPERTURA STAND ENOGASTRONOMICI \nore 11:00\nEsplora i sapori del territorio con degustazioni di olio EVO a cura di Evoschool \nore 12:00\nShowcooking delle Nonne – La Tradizione della Pasta fatta in Casa a cura dell’Associazione “Semele\, la terra e l’arte” \nore 13:00\nPRANZO TRADIZIONALE LOCALE\n\nore 18:00\nCONCERTO DI NATALE\nLasciati incantare dalle melodie natalizie della Corale di Santa Cecilia di Vicovaro all’interno della suggestiva cornice del Castello Cenci Bolognetti \nUn evento imperdibile per vivere la magia del Natale con i sapori e le tradizioni di Vicovaro
URL:https://parcolucretili.it/event/sapori-del-natale-vicovarese/
LOCATION:Vicovaro\, Vicovaro
CATEGORIES:Iniziativa artistica,Manifestazione enogastronomica
ATTACH;FMTTYPE=image/jpeg:https://parcolucretili.it/wp-content/uploads/2024/12/enogastronomica-vicovaro-scaled.jpg
ORGANIZER;CN="Parco Naturale Regionale dei Monti Lucretili":MAILTO:info@parcolucretili.it
END:VEVENT
BEGIN:VEVENT
DTSTART;TZID=Europe/Rome:20241130T100000
DTEND;TZID=Europe/Rome:20241130T170000
DTSTAMP:20260419T170356
CREATED:20241113T141013Z
LAST-MODIFIED:20241127T093454Z
UID:13513-1732960800-1732986000@parcolucretili.it
SUMMARY:30 NOVEMBRE AL CASTELLO SAVELLI DI PALOMBARA SABINA: CON LE PROLOCO DEL PARCO VERSO LA CERTIFICAZIONE EUROPEA DEL TURISMO SOSTENIBILE.
DESCRIPTION:Sabato 30 Novembre nella bellissima cornice del Castello Savelli di Palombara Sabina ci sarà una grande festa capace di guardare al futuro grazie all’approvazione della candidatura all’ottenimento della CETS\, la Certificazione Europea del Turismo Sostenibile. \nUna iniziativa organizzata dalle Pro Loco del Parco e fortemente voluta dal Commissario Marco Piergotti e che avrà la capacità di proiettare il nostro territorio su nuovi orizzonti di qualità nell’accoglienza sostenibile. \nDalle 10 del mattino ci aspettano stand\, giochi per bambini\, attività di educazione ambientale\, visite al Castello\, degustazioni di olio extravergine di oliva della Sabina e Show Cooking con la pasta fatta in casa\, per poi arrivare al Forum CETS moderato dal Commissario\, Marco Piergotti al quale parteciperanno tra gli altri l’Assessore Regionale Giancarlo Righini\, il Sindaco di Palombara Sabina On. Alessandro Palombi e la Consigliera Regionale Micol Grasselli. \nDa non perdere!!
URL:https://parcolucretili.it/event/30-novembre-al-castello-savelli-di-palombara-sabina-con-le-proloco-del-parco-verso-la-certificazione-europea-del-turismo-sostenibile/
LOCATION:Castello Savelli Palombara Sabina\, Via Franco Pompili\, Palombara Sabina\, RM\, 00018\, Italy
CATEGORIES:Convegni,Manifestazione enogastronomica
ATTACH;FMTTYPE=image/jpeg:https://parcolucretili.it/wp-content/uploads/2024/11/WhatsApp-Image-2024-11-27-at-10.30.30.jpeg
ORGANIZER;CN="Parco Naturale Regionale dei Monti Lucretili":MAILTO:info@parcolucretili.it
END:VEVENT
BEGIN:VEVENT
DTSTART;TZID=Europe/Rome:20241122T110000
DTEND;TZID=Europe/Rome:20241122T130000
DTSTAMP:20260419T170356
CREATED:20241120T095540Z
LAST-MODIFIED:20241122T102449Z
UID:13522-1732273200-1732280400@parcolucretili.it
SUMMARY:Festa dell'Albero - Vicovaro
DESCRIPTION:EVENTO ANNULLATO
URL:https://parcolucretili.it/event/festa-dellalbero-vicovaro/
LOCATION:Vicovaro\, Vicovaro
CATEGORIES:Manifestazione enogastronomica
ATTACH;FMTTYPE=image/jpeg:https://parcolucretili.it/wp-content/uploads/2024/11/VICO-ALBERO-scaled.jpg
END:VEVENT
BEGIN:VEVENT
DTSTART;TZID=Europe/Rome:20241006T103000
DTEND;TZID=Europe/Rome:20241006T190000
DTSTAMP:20260419T170356
CREATED:20241001T173903Z
LAST-MODIFIED:20241001T173903Z
UID:13416-1728210600-1728241200@parcolucretili.it
SUMMARY:Enorvinio - Percorso enogastronomico
DESCRIPTION:È in programma per domenica 6 ottobre la settimana edizione di EnOrvinio\, organizzato da Orviniando APS .\nUn percorso enogastronomico tra le vie del nostro borgo.\n\n\nDegustazioni\, musica dal vivo\, artigianato e percorsi naturalistici organizzati..\n\n\nVi aspettiamo
URL:https://parcolucretili.it/event/enorvinio-percorso-enogastronomico/
LOCATION:Orvinio\, Piazza Giuseppe Garibaldi\, Orvinio\, ROMA\, 02035\, Italy
CATEGORIES:Manifestazione enogastronomica,Manifestazioni
ATTACH;FMTTYPE=image/jpeg:https://parcolucretili.it/wp-content/uploads/2024/10/461877400_868162605496485_7241499572066959469_n.jpg
END:VEVENT
END:VCALENDAR