BEGIN:VCALENDAR
VERSION:2.0
PRODID:-//Parco dei Monti Lucretili - ECPv6.15.20//NONSGML v1.0//EN
CALSCALE:GREGORIAN
METHOD:PUBLISH
X-WR-CALNAME:Parco dei Monti Lucretili
X-ORIGINAL-URL:https://parcolucretili.it
X-WR-CALDESC:Eventi per Parco dei Monti Lucretili
REFRESH-INTERVAL;VALUE=DURATION:PT1H
X-Robots-Tag:noindex
X-PUBLISHED-TTL:PT1H
BEGIN:VTIMEZONE
TZID:Europe/Rome
BEGIN:DAYLIGHT
TZOFFSETFROM:+0100
TZOFFSETTO:+0200
TZNAME:CEST
DTSTART:20240331T010000
END:DAYLIGHT
BEGIN:STANDARD
TZOFFSETFROM:+0200
TZOFFSETTO:+0100
TZNAME:CET
DTSTART:20241027T010000
END:STANDARD
BEGIN:DAYLIGHT
TZOFFSETFROM:+0100
TZOFFSETTO:+0200
TZNAME:CEST
DTSTART:20250330T010000
END:DAYLIGHT
BEGIN:STANDARD
TZOFFSETFROM:+0200
TZOFFSETTO:+0100
TZNAME:CET
DTSTART:20251026T010000
END:STANDARD
BEGIN:DAYLIGHT
TZOFFSETFROM:+0100
TZOFFSETTO:+0200
TZNAME:CEST
DTSTART:20260329T010000
END:DAYLIGHT
BEGIN:STANDARD
TZOFFSETFROM:+0200
TZOFFSETTO:+0100
TZNAME:CET
DTSTART:20261025T010000
END:STANDARD
END:VTIMEZONE
BEGIN:VEVENT
DTSTART;TZID=Europe/Rome:20250905T170000
DTEND;TZID=Europe/Rome:20250905T233000
DTSTAMP:20260420T000530
CREATED:20250822T064312Z
LAST-MODIFIED:20250822T105054Z
UID:14389-1757091600-1757115000@parcolucretili.it
SUMMARY:Festa del cammino - Licenza5 settembre
DESCRIPTION:🧒🎨 Ore 17:00 Laboratorio creativo per bambini e famiglie: “Disegna con i fiori” a cura di Gatta Nera Teatro \n🎶🎤 Ore 18:30 Spettacolo musicale dal vivo “Aladin il Mistero delle lamapada” a cura dell’Associazione Grana Nera Teatro \n🍷🧀 Ore 19:30 Cena a prezzo fisso a cura della Pro Loco di Licenza \n🎺🎷 Ore 21:00 Concerto in piazza: GREG SINGS BACHARACH\, Con Claudio Gregori (Greg) e la Big Fat Band di Massimo Pirone Orchestra di 18 elementi per un viaggio musicale indimenticabile!
URL:https://parcolucretili.it/event/festa-del-cammino-licenza5-settembre/
LOCATION:Licenza\, Via Orazio Flacco\, Licenza\, Roma\, 00026\, Italia
CATEGORIES:Manifestazione enogastronomica,Manifestazioni
ATTACH;FMTTYPE=image/jpeg:https://parcolucretili.it/wp-content/uploads/2025/08/Festa-arrivo-cammino2.jpg
ORGANIZER;CN="Parco Naturale Regionale dei Monti Lucretili":MAILTO:info@parcolucretili.it
END:VEVENT
BEGIN:VEVENT
DTSTART;TZID=Europe/Rome:20250913T090000
DTEND;TZID=Europe/Rome:20250913T180000
DTSTAMP:20260420T000530
CREATED:20250910T071655Z
LAST-MODIFIED:20250912T100350Z
UID:14416-1757754000-1757786400@parcolucretili.it
SUMMARY:EXPO DEL PARCO DEI LUCRETILI - SCANDRIGLIA
DESCRIPTION:ARRIVA L’EXPO DEL PARCO DEI LUCRETILI!! SABATO A SCANDRIGLIA\nUna giornata speciale per vivere il cuore autentico dei nostri monti!\nSabato 13 settembre a Scandriglia (RI) vi aspetta un’esperienza unica fatta di natura\, tradizioni e sapori genuini.\n\n\nDalle 9:00 alle 18:00 le strade e le piazze si animeranno con i prodotti tipici del territorio\, le aziende agricole che raccontano la nostra storia\, giochi e attrazioni per i bambini e un pranzo conviviale preparato dalla Pro Loco di Scandriglia.\n\n\nUn’occasione per scoprire e riscoprire insieme la bellezza del Parco dei Monti Lucretili\, tra paesaggi mozzafiato\, cultura contadina e il calore dell’accoglienza locale.\n\n\n\n Non mancate: vi aspettiamo per condividere emozioni\, sorrisi e il gusto della nostra terra!\n\n\n info@parcolucretili.it |  346 0903102
URL:https://parcolucretili.it/event/expo-del-parco-dei-lucretili-scandriglia/
LOCATION:Scandriglia\, Via Umberto\, Scandriglia\, ROMA\, 02038\, Italy
CATEGORIES:Manifestazione enogastronomica,Manifestazioni
ATTACH;FMTTYPE=image/jpeg:https://parcolucretili.it/wp-content/uploads/2025/09/544927570_1181751733987964_8749398819002528385_n.jpg
ORGANIZER;CN="Parco Naturale Regionale dei Monti Lucretili":MAILTO:info@parcolucretili.it
END:VEVENT
BEGIN:VEVENT
DTSTART;TZID=Europe/Rome:20250928T090000
DTEND;TZID=Europe/Rome:20250928T183000
DTSTAMP:20260420T000530
CREATED:20250926T073438Z
LAST-MODIFIED:20250926T073824Z
UID:14459-1759050000-1759084200@parcolucretili.it
SUMMARY:- Montelibretti
DESCRIPTION:SAPORI IN CAMMINO 2025\nUn appuntamento imperdibile tra Natura\, Gusto e Spiritualità! \nDomenica 28 settembre vi aspettiamo a Montelibretti per vivere insieme un’esperienza unica: \nPercorsi suggestivi lungo il Cammino di Francesco\nLa Via dell’Olio e dei nostri prodotti tipici\, per un Cammino di Benessere\nPranzo tradizionale con sapori autentici del territorio
URL:https://parcolucretili.it/event/montelibretti/
LOCATION:Montelibretti\, Via Corso Umberto\, 4\, Montelibretti\, ROMA\, 00010\, Italy
CATEGORIES:Manifestazione enogastronomica
ATTACH;FMTTYPE=image/jpeg:https://parcolucretili.it/wp-content/uploads/2025/09/sapori-in-cammino-montelibretti.jpg
END:VEVENT
END:VCALENDAR