BEGIN:VCALENDAR
VERSION:2.0
PRODID:-//Parco dei Monti Lucretili - ECPv6.15.20//NONSGML v1.0//EN
CALSCALE:GREGORIAN
METHOD:PUBLISH
X-ORIGINAL-URL:https://parcolucretili.it
X-WR-CALDESC:Eventi per Parco dei Monti Lucretili
REFRESH-INTERVAL;VALUE=DURATION:PT1H
X-Robots-Tag:noindex
X-PUBLISHED-TTL:PT1H
BEGIN:VTIMEZONE
TZID:Europe/Rome
BEGIN:DAYLIGHT
TZOFFSETFROM:+0100
TZOFFSETTO:+0200
TZNAME:CEST
DTSTART:20230326T010000
END:DAYLIGHT
BEGIN:STANDARD
TZOFFSETFROM:+0200
TZOFFSETTO:+0100
TZNAME:CET
DTSTART:20231029T010000
END:STANDARD
BEGIN:DAYLIGHT
TZOFFSETFROM:+0100
TZOFFSETTO:+0200
TZNAME:CEST
DTSTART:20240331T010000
END:DAYLIGHT
BEGIN:STANDARD
TZOFFSETFROM:+0200
TZOFFSETTO:+0100
TZNAME:CET
DTSTART:20241027T010000
END:STANDARD
BEGIN:DAYLIGHT
TZOFFSETFROM:+0100
TZOFFSETTO:+0200
TZNAME:CEST
DTSTART:20250330T010000
END:DAYLIGHT
BEGIN:STANDARD
TZOFFSETFROM:+0200
TZOFFSETTO:+0100
TZNAME:CET
DTSTART:20251026T010000
END:STANDARD
END:VTIMEZONE
BEGIN:VEVENT
DTSTART;TZID=Europe/Rome:20241215T160000
DTEND;TZID=Europe/Rome:20241215T190000
DTSTAMP:20260420T221651
CREATED:20241206T122248Z
LAST-MODIFIED:20241206T122834Z
UID:13591-1734278400-1734289200@parcolucretili.it
SUMMARY:Concerto di Natale - Percile
DESCRIPTION:15 dicembre 2024  ore 16:00 \nLa magia del Natale vi aspetta nella suggestiva cornice della Chiesa Santa Maria della Vittoria a Percile\, dove tradizione e musica si incontrano per regalarci una serata tra armonie e suggestioni natalizie.\nAd esibirsi sarà l’Ensemble vocale “Il Contrappunto” che con il suo spettacolo “L’Incanto di Natale” saprà trasportarci in un viaggio musicale unico
URL:https://parcolucretili.it/event/13591/
LOCATION:Percile\, Via Roma\, Percile\, Roma\, 00020\, Italia
CATEGORIES:Evento musicale,Iniziativa artistica
ATTACH;FMTTYPE=image/jpeg:https://parcolucretili.it/wp-content/uploads/2024/12/concerto-gospel-percile-scaled.jpg
ORGANIZER;CN="Parco Naturale Regionale dei Monti Lucretili":MAILTO:info@parcolucretili.it
END:VEVENT
END:VCALENDAR