BEGIN:VCALENDAR
VERSION:2.0
PRODID:-//Parco dei Monti Lucretili - ECPv6.15.20//NONSGML v1.0//EN
CALSCALE:GREGORIAN
METHOD:PUBLISH
X-WR-CALNAME:Parco dei Monti Lucretili
X-ORIGINAL-URL:https://parcolucretili.it
X-WR-CALDESC:Eventi per Parco dei Monti Lucretili
REFRESH-INTERVAL;VALUE=DURATION:PT1H
X-Robots-Tag:noindex
X-PUBLISHED-TTL:PT1H
BEGIN:VTIMEZONE
TZID:Europe/Rome
BEGIN:DAYLIGHT
TZOFFSETFROM:+0100
TZOFFSETTO:+0200
TZNAME:CEST
DTSTART:20240331T010000
END:DAYLIGHT
BEGIN:STANDARD
TZOFFSETFROM:+0200
TZOFFSETTO:+0100
TZNAME:CET
DTSTART:20241027T010000
END:STANDARD
BEGIN:DAYLIGHT
TZOFFSETFROM:+0100
TZOFFSETTO:+0200
TZNAME:CEST
DTSTART:20250330T010000
END:DAYLIGHT
BEGIN:STANDARD
TZOFFSETFROM:+0200
TZOFFSETTO:+0100
TZNAME:CET
DTSTART:20251026T010000
END:STANDARD
BEGIN:DAYLIGHT
TZOFFSETFROM:+0100
TZOFFSETTO:+0200
TZNAME:CEST
DTSTART:20260329T010000
END:DAYLIGHT
BEGIN:STANDARD
TZOFFSETFROM:+0200
TZOFFSETTO:+0100
TZNAME:CET
DTSTART:20261025T010000
END:STANDARD
END:VTIMEZONE
BEGIN:VEVENT
DTSTART;TZID=Europe/Rome:20251221T183000
DTEND;TZID=Europe/Rome:20251221T200000
DTSTAMP:20260422T005142
CREATED:20251218T121121Z
LAST-MODIFIED:20251218T121121Z
UID:14652-1766341800-1766347200@parcolucretili.it
SUMMARY:Concerto Gospel - Marcellina 21 dicembre
DESCRIPTION:Marcellina 21 dicembre ore 18:45 \nPresso la Chiesa Cristo Re di Marcellina\nAd emozionarci con la sua voce sarà Elsa Baldini\, accompagnata dal coro “Free Voices Of Love” in un indimenticabile concerto gospel. \nUn’occasione unica per vivere insieme la magia della musica e dello spirito natalizio! \nIngresso libero – Ti aspettiamo! Comune
URL:https://parcolucretili.it/event/concerto-gospel-marcellina-21-dicembre/
LOCATION:Marcellina\, Piazza del Mercato\, Marcellina\, 00010\, Italia
CATEGORIES:Concerti,Evento Culturale
ATTACH;FMTTYPE=image/jpeg:https://parcolucretili.it/wp-content/uploads/2025/12/21-dicembre-marcellina-gospel-scaled.jpg
ORGANIZER;CN="Parco Naturale Regionale dei Monti Lucretili":MAILTO:info@parcolucretili.it
END:VEVENT
END:VCALENDAR