BEGIN:VCALENDAR
VERSION:2.0
PRODID:-//Parco dei Monti Lucretili - ECPv6.15.20//NONSGML v1.0//EN
CALSCALE:GREGORIAN
METHOD:PUBLISH
X-WR-CALNAME:Parco dei Monti Lucretili
X-ORIGINAL-URL:https://parcolucretili.it
X-WR-CALDESC:Eventi per Parco dei Monti Lucretili
REFRESH-INTERVAL;VALUE=DURATION:PT1H
X-Robots-Tag:noindex
X-PUBLISHED-TTL:PT1H
BEGIN:VTIMEZONE
TZID:Europe/Rome
BEGIN:DAYLIGHT
TZOFFSETFROM:+0100
TZOFFSETTO:+0200
TZNAME:CEST
DTSTART:20240331T010000
END:DAYLIGHT
BEGIN:STANDARD
TZOFFSETFROM:+0200
TZOFFSETTO:+0100
TZNAME:CET
DTSTART:20241027T010000
END:STANDARD
BEGIN:DAYLIGHT
TZOFFSETFROM:+0100
TZOFFSETTO:+0200
TZNAME:CEST
DTSTART:20250330T010000
END:DAYLIGHT
BEGIN:STANDARD
TZOFFSETFROM:+0200
TZOFFSETTO:+0100
TZNAME:CET
DTSTART:20251026T010000
END:STANDARD
BEGIN:DAYLIGHT
TZOFFSETFROM:+0100
TZOFFSETTO:+0200
TZNAME:CEST
DTSTART:20260329T010000
END:DAYLIGHT
BEGIN:STANDARD
TZOFFSETFROM:+0200
TZOFFSETTO:+0100
TZNAME:CET
DTSTART:20261025T010000
END:STANDARD
END:VTIMEZONE
BEGIN:VEVENT
DTSTART;TZID=Europe/Rome:20250629T080000
DTEND;TZID=Europe/Rome:20250629T220000
DTSTAMP:20260422T104120
CREATED:20250619T100705Z
LAST-MODIFIED:20250627T130641Z
UID:14093-1751184000-1751234400@parcolucretili.it
SUMMARY:ESTEMPORANEA DI PITTURA A SAN POLO DEI CAVALIERI
DESCRIPTION:🎨 ESTEMPORANEA DI PITTURA A SAN POLO DEI CAVALIERI\n🖌️ “Fontane e Fontanili nel Territorio del Parco dei Monti Lucretili” \n📍 Dove: San Polo dei Cavalieri (RM)    📅 29 giugno 2025 \nIl suggestivo borgo medievale di San Polo dei Cavalieri si trasforma in una galleria d’arte a cielo aperto! \nArtisti adulti di provata esperienza sono invitati a partecipare all’estemporanea di pittura dedicata al tema delle fontane e dei fontanili del Parco dei Monti Lucretili. Un’intera giornata per dipingere immersi nella bellezza del borgo\, tra scorci storici e natura incontaminata. \n🖼️ Le opere realizzate saranno esposte presso la sede dell’Associazione Socio-Culturale “Il Corniolo” e valutate da una giuria di esperti che proclamerà i vincitori \nINFO E CONTATTI:  📧 ilcorniolo2006@gmail.com  –  📞334 2726750 \nREGOLAMENTO DI PARTECIPAZIONE \nSCHEDA DI ADESIONE
URL:https://parcolucretili.it/event/estemporanea-di-pittura-a-san-polo-dei-cavalieri/
LOCATION:San Polo dei Cavalieri\, Via dei Cavalieri\, San Polo dei Cavalieri\, Roma\, 00010\, Italia
CATEGORIES:Evento Culturale,Mostra fotografica
ATTACH;FMTTYPE=image/jpeg:https://parcolucretili.it/wp-content/uploads/2025/06/2025-locandina-il-corniolo-estemporanea.jpg
ORGANIZER;CN="Parco Naturale Regionale dei Monti Lucretili":MAILTO:info@parcolucretili.it
END:VEVENT
END:VCALENDAR