BEGIN:VCALENDAR
VERSION:2.0
PRODID:-//Parco dei Monti Lucretili - ECPv6.15.20//NONSGML v1.0//EN
CALSCALE:GREGORIAN
METHOD:PUBLISH
X-ORIGINAL-URL:https://parcolucretili.it
X-WR-CALDESC:Eventi per Parco dei Monti Lucretili
REFRESH-INTERVAL;VALUE=DURATION:PT1H
X-Robots-Tag:noindex
X-PUBLISHED-TTL:PT1H
BEGIN:VTIMEZONE
TZID:Europe/Rome
BEGIN:DAYLIGHT
TZOFFSETFROM:+0100
TZOFFSETTO:+0200
TZNAME:CEST
DTSTART:20230326T010000
END:DAYLIGHT
BEGIN:STANDARD
TZOFFSETFROM:+0200
TZOFFSETTO:+0100
TZNAME:CET
DTSTART:20231029T010000
END:STANDARD
BEGIN:DAYLIGHT
TZOFFSETFROM:+0100
TZOFFSETTO:+0200
TZNAME:CEST
DTSTART:20240331T010000
END:DAYLIGHT
BEGIN:STANDARD
TZOFFSETFROM:+0200
TZOFFSETTO:+0100
TZNAME:CET
DTSTART:20241027T010000
END:STANDARD
BEGIN:DAYLIGHT
TZOFFSETFROM:+0100
TZOFFSETTO:+0200
TZNAME:CEST
DTSTART:20250330T010000
END:DAYLIGHT
BEGIN:STANDARD
TZOFFSETFROM:+0200
TZOFFSETTO:+0100
TZNAME:CET
DTSTART:20251026T010000
END:STANDARD
END:VTIMEZONE
BEGIN:VEVENT
DTSTART;TZID=Europe/Rome:20241216T100000
DTEND;TZID=Europe/Rome:20241216T130000
DTSTAMP:20260422T205928
CREATED:20241204T080740Z
LAST-MODIFIED:20241204T080740Z
UID:13573-1734343200-1734354000@parcolucretili.it
SUMMARY:Montorio Romano Festa del Libro – Presentazione del libro “Le Guardiane degli Elementi”
DESCRIPTION:🗓️ Quando: Lunedì 16 dicembre 2024\, ore 10\n📍 Dove: Licenza \nScopri il nuovo libro “Le Guardiane degli Elementi” insieme all’autrice Alessandra Di Nunno\, che ci guiderà attraverso i segreti e le emozioni della sua ultima opera.\nAd arricchire l’esperienza\, la straordinaria interpretazione di Francesca Pirozzi\, che darà voce e vita ai personaggi e alle atmosfere del racconto in uno storytelling coinvolgente.
URL:https://parcolucretili.it/event/montorio-romano-festa-del-libro-presentazione-del-libro-le-guardiane-degli-elementi/
LOCATION:Montorio Romano\, Viale Martiri del Congo\, Montorio Romano\, Roma\, 00010\, Italia
CATEGORIES:Evento Culturale
ATTACH;FMTTYPE=image/jpeg:https://parcolucretili.it/wp-content/uploads/2024/12/Locandina-parco-Montorio-Romano-scaled.jpg
ORGANIZER;CN="Parco Naturale Regionale dei Monti Lucretili":MAILTO:info@parcolucretili.it
END:VEVENT
END:VCALENDAR