BEGIN:VCALENDAR
VERSION:2.0
PRODID:-//Parco dei Monti Lucretili - ECPv6.15.20//NONSGML v1.0//EN
CALSCALE:GREGORIAN
METHOD:PUBLISH
X-WR-CALNAME:Parco dei Monti Lucretili
X-ORIGINAL-URL:https://parcolucretili.it
X-WR-CALDESC:Eventi per Parco dei Monti Lucretili
REFRESH-INTERVAL;VALUE=DURATION:PT1H
X-Robots-Tag:noindex
X-PUBLISHED-TTL:PT1H
BEGIN:VTIMEZONE
TZID:Europe/Rome
BEGIN:DAYLIGHT
TZOFFSETFROM:+0100
TZOFFSETTO:+0200
TZNAME:CEST
DTSTART:20230326T010000
END:DAYLIGHT
BEGIN:STANDARD
TZOFFSETFROM:+0200
TZOFFSETTO:+0100
TZNAME:CET
DTSTART:20231029T010000
END:STANDARD
BEGIN:DAYLIGHT
TZOFFSETFROM:+0100
TZOFFSETTO:+0200
TZNAME:CEST
DTSTART:20240331T010000
END:DAYLIGHT
BEGIN:STANDARD
TZOFFSETFROM:+0200
TZOFFSETTO:+0100
TZNAME:CET
DTSTART:20241027T010000
END:STANDARD
BEGIN:DAYLIGHT
TZOFFSETFROM:+0100
TZOFFSETTO:+0200
TZNAME:CEST
DTSTART:20250330T010000
END:DAYLIGHT
BEGIN:STANDARD
TZOFFSETFROM:+0200
TZOFFSETTO:+0100
TZNAME:CET
DTSTART:20251026T010000
END:STANDARD
END:VTIMEZONE
BEGIN:VEVENT
DTSTART;TZID=Europe/Rome:20241204T100000
DTEND;TZID=Europe/Rome:20241204T130000
DTSTAMP:20260422T205513
CREATED:20241204T081206Z
LAST-MODIFIED:20241204T081206Z
UID:13576-1733306400-1733317200@parcolucretili.it
SUMMARY:Poggio Moiano – Presentazione del libro “Le Guardiane degli Elementi
DESCRIPTION:🗓️ Quando: Mercoledì 4 dicembre 2024\, ore 10\n📍 Dove: Licenza \nScopri il nuovo libro “Le Guardiane degli Elementi” insieme all’autrice Alessandra Di Nunno\, che ci guiderà attraverso i segreti e le emozioni della sua ultima opera.\nAd arricchire l’esperienza\, la straordinaria interpretazione di Francesca Pirozzi\, che darà voce e vita ai personaggi e alle atmosfere del racconto in uno storytelling coinvolgente.
URL:https://parcolucretili.it/event/poggio-moiano-presentazione-del-libro-le-guardiane-degli-elementi/
LOCATION:Poggio Moiano\, Piazza Vittorio Emanuele\, 2\, Poggio Moiano\, ROMA\, 02037\, Italy
CATEGORIES:Evento Culturale
ATTACH;FMTTYPE=image/jpeg:https://parcolucretili.it/wp-content/uploads/2024/12/Locandina-parco-Poggio-Moiano-scaled.jpg
ORGANIZER;CN="Parco Naturale Regionale dei Monti Lucretili":MAILTO:info@parcolucretili.it
END:VEVENT
END:VCALENDAR