BEGIN:VCALENDAR
VERSION:2.0
PRODID:-//Parco dei Monti Lucretili - ECPv6.15.20//NONSGML v1.0//EN
CALSCALE:GREGORIAN
METHOD:PUBLISH
X-ORIGINAL-URL:https://parcolucretili.it
X-WR-CALDESC:Eventi per Parco dei Monti Lucretili
REFRESH-INTERVAL;VALUE=DURATION:PT1H
X-Robots-Tag:noindex
X-PUBLISHED-TTL:PT1H
BEGIN:VTIMEZONE
TZID:Europe/Rome
BEGIN:DAYLIGHT
TZOFFSETFROM:+0100
TZOFFSETTO:+0200
TZNAME:CEST
DTSTART:20240331T010000
END:DAYLIGHT
BEGIN:STANDARD
TZOFFSETFROM:+0200
TZOFFSETTO:+0100
TZNAME:CET
DTSTART:20241027T010000
END:STANDARD
BEGIN:DAYLIGHT
TZOFFSETFROM:+0100
TZOFFSETTO:+0200
TZNAME:CEST
DTSTART:20250330T010000
END:DAYLIGHT
BEGIN:STANDARD
TZOFFSETFROM:+0200
TZOFFSETTO:+0100
TZNAME:CET
DTSTART:20251026T010000
END:STANDARD
BEGIN:DAYLIGHT
TZOFFSETFROM:+0100
TZOFFSETTO:+0200
TZNAME:CEST
DTSTART:20260329T010000
END:DAYLIGHT
BEGIN:STANDARD
TZOFFSETFROM:+0200
TZOFFSETTO:+0100
TZNAME:CET
DTSTART:20261025T010000
END:STANDARD
END:VTIMEZONE
BEGIN:VEVENT
DTSTART;TZID=Europe/Rome:20250914T093000
DTEND;TZID=Europe/Rome:20250914T170000
DTSTAMP:20260422T035028
CREATED:20250910T085742Z
LAST-MODIFIED:20250910T085742Z
UID:14419-1757842200-1757869200@parcolucretili.it
SUMMARY:Giardino dei 5 sensi - GIORNATA DEDICATA ALLA DISABILITA'
DESCRIPTION:🎉 Giornata dedicata alla Disabilità\n📍 Giardino dei 5 Sensi – Licenza\n🕤 14 settembre dalle ore 9:30 \nUna giornata speciale all’insegna dell’inclusione\, della natura e della condivisione!\nAl Giardino dei 5 sensi momenti di incontro in un luogo magico pensato per tutti. \nIngresso libero – Vi aspettiamo!
URL:https://parcolucretili.it/event/giardino-dei-5-sensi-giornata-dedicata-alla-disabilita/
LOCATION:Giardino dei 5 Sensi Luciano Romanzi\, Via Licinese Km 34\,5\, Licenza\, Roma\, 00026\, Italia
CATEGORIES:Evento Culturale
ATTACH;FMTTYPE=image/jpeg:https://parcolucretili.it/wp-content/uploads/2025/09/14-settembre-Giornata-dedicata-alla-disabilita.jpg
ORGANIZER;CN="Parco Naturale Regionale dei Monti Lucretili":MAILTO:info@parcolucretili.it
END:VEVENT
BEGIN:VEVENT
DTSTART;TZID=Europe/Rome:20250927T090000
DTEND;TZID=Europe/Rome:20250927T173000
DTSTAMP:20260422T035028
CREATED:20250919T075021Z
LAST-MODIFIED:20250922T081706Z
UID:14439-1758963600-1758994200@parcolucretili.it
SUMMARY:Estemporanea di pittura - "PALOMBARA su tela"
DESCRIPTION:Estemporanea di pittura “PALOMBARA su tela” – Sabato 27 settembre 2025\nUna giornata dedicata all’arte nel cuore di Palombara Sabina\, aperta a pittori di ogni età e stile. \nProgramma della giornata: \n\n09:30 – Registrazione dei partecipanti e timbratura dei supporti\n10:30 – Individuazione delle postazioni di pittura\n16:30 – Consegna delle opere\n17:00 – Inaugurazione dei murales in Via A. De Gasperi\n17:30 – Premiazione e rinfresco\n\nPremi: \n\n1° posto: €500\n2° posto: €200\n\nPer info e iscrizioni: prolocopalombarasabina@gmail.com
URL:https://parcolucretili.it/event/14439/
LOCATION:Castello Savelli Palombara Sabina\, Via Franco Pompili\, Palombara Sabina\, RM\, 00018\, Italy
CATEGORIES:Evento Culturale,Iniziativa artistica
ATTACH;FMTTYPE=image/jpeg:https://parcolucretili.it/wp-content/uploads/2025/09/estemporanea-di-pittura-27-sett.jpg
ORGANIZER;CN="Pro Loco Palombara Sabina":MAILTO:prolocopalombarasabina@gmail.com
END:VEVENT
END:VCALENDAR