BEGIN:VCALENDAR
VERSION:2.0
PRODID:-//Parco dei Monti Lucretili - ECPv6.15.20//NONSGML v1.0//EN
CALSCALE:GREGORIAN
METHOD:PUBLISH
X-ORIGINAL-URL:https://parcolucretili.it
X-WR-CALDESC:Eventi per Parco dei Monti Lucretili
REFRESH-INTERVAL;VALUE=DURATION:PT1H
X-Robots-Tag:noindex
X-PUBLISHED-TTL:PT1H
BEGIN:VTIMEZONE
TZID:Europe/Rome
BEGIN:DAYLIGHT
TZOFFSETFROM:+0100
TZOFFSETTO:+0200
TZNAME:CEST
DTSTART:20240331T010000
END:DAYLIGHT
BEGIN:STANDARD
TZOFFSETFROM:+0200
TZOFFSETTO:+0100
TZNAME:CET
DTSTART:20241027T010000
END:STANDARD
BEGIN:DAYLIGHT
TZOFFSETFROM:+0100
TZOFFSETTO:+0200
TZNAME:CEST
DTSTART:20250330T010000
END:DAYLIGHT
BEGIN:STANDARD
TZOFFSETFROM:+0200
TZOFFSETTO:+0100
TZNAME:CET
DTSTART:20251026T010000
END:STANDARD
BEGIN:DAYLIGHT
TZOFFSETFROM:+0100
TZOFFSETTO:+0200
TZNAME:CEST
DTSTART:20260329T010000
END:DAYLIGHT
BEGIN:STANDARD
TZOFFSETFROM:+0200
TZOFFSETTO:+0100
TZNAME:CET
DTSTART:20261025T010000
END:STANDARD
END:VTIMEZONE
BEGIN:VEVENT
DTSTART;TZID=Europe/Rome:20250713T080000
DTEND;TZID=Europe/Rome:20250713T170000
DTSTAMP:20260422T142348
CREATED:20250626T070657Z
LAST-MODIFIED:20250626T070657Z
UID:14131-1752393600-1752426000@parcolucretili.it
SUMMARY:🎒 Un viaggio nel tempo - natura\, storia e divertimento per tutta la famiglia
DESCRIPTION:🌿 13 LUGLIO 2025 – LICENZA (RM) \nPreparati a vivere una giornata unica tra cultura\, natura e avventura nel cuore del Parco Naturale dei Monti Lucretili! Un evento pensato per grandi e piccoli\, con attività differenziate ma unite da un’unica emozione: scoprire la bellezza di Licenza tra passato e presente. \n📜 SI PARTE CON LA STORIA!Visiteremo il Museo Oraziano e la suggestiva Villa di Orazio\, per conoscere da vicino la figura del poeta latino Quinto Orazio Flacco e scoprire come viveva nell’antica Roma\, tra versi\, rovine e racconti immersivi. \n🥾 DUE ESCURSIONI\, UN’ESPERIENZA INDIMENTICABILEDal sito archeologico\, due percorsi naturalistici adatti a ogni esigenza: \n👨‍👩‍👧 Gruppo FAMILYCon la guida GAEE FIPTES Stefania Raimondi\, un’escursione breve\, panoramica e ombreggiata fino al Ninfeo degli Orsini\, la leggendaria Fonte Bandusia. Ideale per famiglie con bambini! \n⛰️ Gruppo percorso COMPLETOCon la guida GAEE FIPTES Francesca Zannoni\, un percorso più lungo e immersivo fino al Fosso di Vena Scritta\, tra scenari naturali mozzafiato nel cuore del Parco. \n🎨 LABORATORIO NATURALISTICODurante l’escursione Family\, i più piccoli parteciperanno al laboratorio creativo “La costruzione dell’aquila reale”\, dove realizzeranno e decoreranno un’aquila reale in legno da portare a casa come ricordo dell’esperienza! \n\n🎯 Evento a numero chiuso – Prenotazione obbligatoria📞 Info e prenotazioni:👉 Francesca Zannoni – 380 6864544👉 Stefania Raimondi – 333 2157150 \n🎒 Equipaggiamento obbligatorio: scarpe da trekking\, zaino\, 2 litri d’acqua\, pranzo al sacco\, abbigliamento adatto alla stagione.La guida si riserva di escludere i partecipanti non adeguatamente equipaggiati.
URL:https://parcolucretili.it/event/%f0%9f%8e%92-un-viaggio-nel-tempo-natura-storia-e-divertimento-per-tutta-la-famiglia/
LOCATION:Licenza\, Via Orazio Flacco\, Licenza\, Roma\, 00026\, Italia
CATEGORIES:Escursioni
ATTACH;FMTTYPE=application/pdf:https://parcolucretili.it/wp-content/uploads/2025/06/def-FAMILYTREK-LICENZA-Locandine-format-ESTATE-2025-per-PowerPoint.pdf
ORGANIZER;CN="Parco Naturale Regionale dei Monti Lucretili":MAILTO:info@parcolucretili.it
END:VEVENT
END:VCALENDAR