BEGIN:VCALENDAR
VERSION:2.0
PRODID:-//Parco dei Monti Lucretili - ECPv6.15.20//NONSGML v1.0//EN
CALSCALE:GREGORIAN
METHOD:PUBLISH
X-WR-CALNAME:Parco dei Monti Lucretili
X-ORIGINAL-URL:https://parcolucretili.it
X-WR-CALDESC:Eventi per Parco dei Monti Lucretili
REFRESH-INTERVAL;VALUE=DURATION:PT1H
X-Robots-Tag:noindex
X-PUBLISHED-TTL:PT1H
BEGIN:VTIMEZONE
TZID:Europe/Rome
BEGIN:DAYLIGHT
TZOFFSETFROM:+0100
TZOFFSETTO:+0200
TZNAME:CEST
DTSTART:20240331T010000
END:DAYLIGHT
BEGIN:STANDARD
TZOFFSETFROM:+0200
TZOFFSETTO:+0100
TZNAME:CET
DTSTART:20241027T010000
END:STANDARD
BEGIN:DAYLIGHT
TZOFFSETFROM:+0100
TZOFFSETTO:+0200
TZNAME:CEST
DTSTART:20250330T010000
END:DAYLIGHT
BEGIN:STANDARD
TZOFFSETFROM:+0200
TZOFFSETTO:+0100
TZNAME:CET
DTSTART:20251026T010000
END:STANDARD
BEGIN:DAYLIGHT
TZOFFSETFROM:+0100
TZOFFSETTO:+0200
TZNAME:CEST
DTSTART:20260329T010000
END:DAYLIGHT
BEGIN:STANDARD
TZOFFSETFROM:+0200
TZOFFSETTO:+0100
TZNAME:CET
DTSTART:20261025T010000
END:STANDARD
END:VTIMEZONE
BEGIN:VEVENT
DTSTART;TZID=Europe/Rome:20250309T093000
DTEND;TZID=Europe/Rome:20250309T170000
DTSTAMP:20260422T214041
CREATED:20250305T074658Z
LAST-MODIFIED:20250305T074658Z
UID:13804-1741512600-1741539600@parcolucretili.it
SUMMARY:Domenica trek ai laghetti di Percile
DESCRIPTION:Domenica trek con una semplice escursione che dal borgo di Percile ci condurrà ai suoi laghetti (lagustelli in gergo paesano) che sono un unicum naturalistico a pochi minuti da Roma. Di origine carsica occupano il fondo di due doline e sorgono all’interno del Parco dei Monti Lucretili. Si arriva al primo dei due laghi\, il Lago Marraone\, costeggiando una profonda dolina che ospita lo specchio d’acqua\, poco visibile dalla strada. Mentre il lago piu’ grande (Fraturno) sarà la nostra meta e dove faremo la pausa pranzo. Circondato da un bosco di conifere ricorda un angolo di Alpi nel cuore dei Monti Lucretili. Il percorso di avvicinamento\, un tratto del Cammino naturale dei parchi\, è gradevole e panoramico su gran parte della valle dell’Aniene.Una domenica dal sapore primaverile . Al rientro prima di partire e del 3° tempo breve sosta alla storica fonte degli Aliucci…da essa sgorga un’acqua leggerissima\, oligominerale\, usata fin dall’epoca romana per la cura dei calcoli renali.\nkm 12 dislivello 300 metri\nAppuntamento: h 9.30 a Percile. Il punto esatto verrà comunicato in fase di prenotazione.Altri appuntamenti: in funzione della disponibilità delle auto\, presso fermate Metro\, da concordare con le guide.\nCosa portare: scarponcini da trekking; utili i bastoncini; vestirsi a strati; acqua a sufficienza; pranzo al sacco … i dolcetti e il caffè li offriamo noi\nQUOTA SOCIALE:\nEscursione 15 € + Tessera Nomos Trek in corso di validità.\n Per i non tesserati inviare comunicazione via tel/sms etc. con i propri dati (nome\, cognome\, luogo e data di nascita e cf) entro le 18 del giorno precedente l’escursione.Ad ogni nuovo socio verrà rilasciata la tessera fedeltà Nomos Trek. Dopo 9 escursioni che farete con noi la 10° sarà gratuita.\nIl solo “Parteciperò” messo all’evento non sarà preso in considerazione se non si è poi contattata la guida.\n\nINFORMAZIONI e PRENOTAZIONI: (preferibilmente whatsApp)Marco Marini 3478247257 \n\nGuida ambientale escursionistica\nPer ricevere aggiornamenti sull’evento e vedere tutte le escursioni:1) Mettere “parteciperò”2) Mettere “mi piace” alla pagina Nomos Trek – Escursioni e Trekking e cliccare sul tasto “segui” – https://www.facebook.com/NomosTrek3) iscriversi al gruppo pubblico Nomos Trek- Associazione Escursionistica –https://www.facebook.com/groups/3418526959152504) Chat Telegram https://t.me/+5JYvtRdqIH9jZDJk5) https://www.tiktok.com/@nomostrek6) https://www.instagram.com/nomostrekescursioni/?hl=it7) https://twitter.com/nomos_trek Visita il sito: www.nomostrek.com9) https://whatsapp.com/channel/0029VaD7W1hGZNCxYwLH5C1Y10) https://www.threads.net/@marco71marini11)https://www.messenger.com/channel/NomosTrek\n\nL’iniziativa è riservata ai soci in regola con l’iscrizione relativa all’anno 2025 ed in possesso della relativa tessera. Le Guide si riservano il diritto insindacabile di modificare il programma stabilito in caso di condizioni meteorologiche avverse tali da rendere pericoloso l’itinerario\, in caso di impraticabilità di un sentiero\, in caso di impossibilità di un partecipante a continuare l’escursione per problemi fisici e/o psicologici.Si prega inoltre di avvertire gli accompagnatori della presenza di eventuali patologie\, o di problematiche che potrebbero manifestarsi nel corso dell’escursione\, grazie per la collaborazione\n\nLink dell’evento\nhttps://www.nomostrek.com/eventi/%f0%9f%93%8di-laghetti-di-percile-con-nomos-trek/
URL:https://parcolucretili.it/event/domenica-trek-ai-laghetti-di-percile/
LOCATION:Percile\, Via Roma\, Percile\, Roma\, 00020\, Italia
CATEGORIES:Escursioni
ATTACH;FMTTYPE=image/jpeg:https://parcolucretili.it/wp-content/uploads/2025/03/escursione-percile.jpg
END:VEVENT
BEGIN:VEVENT
DTSTART;TZID=Europe/Rome:20250309T160000
DTEND;TZID=Europe/Rome:20250309T220000
DTSTAMP:20260422T214041
CREATED:20250226T163340Z
LAST-MODIFIED:20250305T073911Z
UID:13781-1741536000-1741557600@parcolucretili.it
SUMMARY:Escursione serale ai Laghi di Percile per l'ascolto del canto di rane\, rospi e raganelle
DESCRIPTION:Bellissima escursione notturna ai laghetti di Percile per ascoltare il canto degli Anuri. \nPer info e prenotazioni\nAndrea 380 7651894
URL:https://parcolucretili.it/event/escursione-serale-ai-laghi-di-percile-per-lascolto-del-canto-di-rane-rospi-e-raganelle/
LOCATION:Percile\, Via Roma\, Percile\, Roma\, 00020\, Italia
CATEGORIES:Escursioni
ATTACH;FMTTYPE=image/jpeg:https://parcolucretili.it/wp-content/uploads/2025/02/Locandina_20Percile.jpg
END:VEVENT
END:VCALENDAR