BEGIN:VCALENDAR
VERSION:2.0
PRODID:-//Parco dei Monti Lucretili - ECPv6.15.20//NONSGML v1.0//EN
CALSCALE:GREGORIAN
METHOD:PUBLISH
X-WR-CALNAME:Parco dei Monti Lucretili
X-ORIGINAL-URL:https://parcolucretili.it
X-WR-CALDESC:Eventi per Parco dei Monti Lucretili
REFRESH-INTERVAL;VALUE=DURATION:PT1H
X-Robots-Tag:noindex
X-PUBLISHED-TTL:PT1H
BEGIN:VTIMEZONE
TZID:Europe/Rome
BEGIN:DAYLIGHT
TZOFFSETFROM:+0100
TZOFFSETTO:+0200
TZNAME:CEST
DTSTART:20230326T010000
END:DAYLIGHT
BEGIN:STANDARD
TZOFFSETFROM:+0200
TZOFFSETTO:+0100
TZNAME:CET
DTSTART:20231029T010000
END:STANDARD
BEGIN:DAYLIGHT
TZOFFSETFROM:+0100
TZOFFSETTO:+0200
TZNAME:CEST
DTSTART:20240331T010000
END:DAYLIGHT
BEGIN:STANDARD
TZOFFSETFROM:+0200
TZOFFSETTO:+0100
TZNAME:CET
DTSTART:20241027T010000
END:STANDARD
BEGIN:DAYLIGHT
TZOFFSETFROM:+0100
TZOFFSETTO:+0200
TZNAME:CEST
DTSTART:20250330T010000
END:DAYLIGHT
BEGIN:STANDARD
TZOFFSETFROM:+0200
TZOFFSETTO:+0100
TZNAME:CET
DTSTART:20251026T010000
END:STANDARD
END:VTIMEZONE
BEGIN:VEVENT
DTSTART;TZID=Europe/Rome:20241103T090000
DTEND;TZID=Europe/Rome:20241103T150000
DTSTAMP:20260423T044642
CREATED:20241024T091835Z
LAST-MODIFIED:20241029T152315Z
UID:13461-1730624400-1730646000@parcolucretili.it
SUMMARY:Foliage ai Lagustelli di Percile
DESCRIPTION:Domenica 3 Novembre una fantastica escursione nei colori d’autunno ai lagustelli di Percile!! Telete pronta la macchina fotografica\, imperdibile
URL:https://parcolucretili.it/event/foliage-ai-lagustelli-di-percile/
LOCATION:Lagustrelli di Percile
CATEGORIES:Escursioni
ATTACH;FMTTYPE=image/jpeg:https://parcolucretili.it/wp-content/uploads/2024/10/Immagine-WhatsApp-2024-10-29-ore-16.16.06_f2bc9241.jpg
END:VEVENT
END:VCALENDAR