BEGIN:VCALENDAR
VERSION:2.0
PRODID:-//Parco dei Monti Lucretili - ECPv6.15.20//NONSGML v1.0//EN
CALSCALE:GREGORIAN
METHOD:PUBLISH
X-WR-CALNAME:Parco dei Monti Lucretili
X-ORIGINAL-URL:https://parcolucretili.it
X-WR-CALDESC:Eventi per Parco dei Monti Lucretili
REFRESH-INTERVAL;VALUE=DURATION:PT1H
X-Robots-Tag:noindex
X-PUBLISHED-TTL:PT1H
BEGIN:VTIMEZONE
TZID:Europe/Rome
BEGIN:DAYLIGHT
TZOFFSETFROM:+0100
TZOFFSETTO:+0200
TZNAME:CEST
DTSTART:20230326T010000
END:DAYLIGHT
BEGIN:STANDARD
TZOFFSETFROM:+0200
TZOFFSETTO:+0100
TZNAME:CET
DTSTART:20231029T010000
END:STANDARD
BEGIN:DAYLIGHT
TZOFFSETFROM:+0100
TZOFFSETTO:+0200
TZNAME:CEST
DTSTART:20240331T010000
END:DAYLIGHT
BEGIN:STANDARD
TZOFFSETFROM:+0200
TZOFFSETTO:+0100
TZNAME:CET
DTSTART:20241027T010000
END:STANDARD
BEGIN:DAYLIGHT
TZOFFSETFROM:+0100
TZOFFSETTO:+0200
TZNAME:CEST
DTSTART:20250330T010000
END:DAYLIGHT
BEGIN:STANDARD
TZOFFSETFROM:+0200
TZOFFSETTO:+0100
TZNAME:CET
DTSTART:20251026T010000
END:STANDARD
END:VTIMEZONE
BEGIN:VEVENT
DTSTART;TZID=Europe/Rome:20240908T083000
DTEND;TZID=Europe/Rome:20240908T130000
DTSTAMP:20260423T082758
CREATED:20240819T092653Z
LAST-MODIFIED:20240819T095439Z
UID:13255-1725784200-1725800400@parcolucretili.it
SUMMARY:Trekking alle sorgenti Capore ed Eremo di Sant'Angelo
DESCRIPTION:Una giornata ricca di attività e un trekking bellissimo\, in compagnia di una guida GAEE FIPTES\, che ci permetterà di scoprire come nasce l’acqua da una montagna! Conosceremo la storia delle sorgenti le Capore e dell’Eremo di Sant’Angelo. A fine trekking andremo a visitare il paese di Montorio Romano che per l’occasione ha allestito una fiera enogastronomica dei prodotti di eccellenza del territorio. \nInfo e prenotazioni guida GAEE FIPTES Simonetta 3398261880 Alfredo 3387647740 \nPrenotazione obbligatoria Massimo 25 partecipanti
URL:https://parcolucretili.it/event/trekking-alle-sorgenti-capore-ed-eremo-di-santangelo/
LOCATION:Montorio Romano\, Viale Martiri del Congo\, Montorio Romano\, Roma\, 00010\, Italia
CATEGORIES:Escursioni,Scienze
ATTACH;FMTTYPE=image/jpeg:https://parcolucretili.it/wp-content/uploads/2024/08/sorgenti-capore.jpg
END:VEVENT
END:VCALENDAR