BEGIN:VCALENDAR
VERSION:2.0
PRODID:-//Parco dei Monti Lucretili - ECPv6.15.20//NONSGML v1.0//EN
CALSCALE:GREGORIAN
METHOD:PUBLISH
X-ORIGINAL-URL:https://parcolucretili.it
X-WR-CALDESC:Eventi per Parco dei Monti Lucretili
REFRESH-INTERVAL;VALUE=DURATION:PT1H
X-Robots-Tag:noindex
X-PUBLISHED-TTL:PT1H
BEGIN:VTIMEZONE
TZID:Europe/Rome
BEGIN:DAYLIGHT
TZOFFSETFROM:+0100
TZOFFSETTO:+0200
TZNAME:CEST
DTSTART:20230326T010000
END:DAYLIGHT
BEGIN:STANDARD
TZOFFSETFROM:+0200
TZOFFSETTO:+0100
TZNAME:CET
DTSTART:20231029T010000
END:STANDARD
BEGIN:DAYLIGHT
TZOFFSETFROM:+0100
TZOFFSETTO:+0200
TZNAME:CEST
DTSTART:20240331T010000
END:DAYLIGHT
BEGIN:STANDARD
TZOFFSETFROM:+0200
TZOFFSETTO:+0100
TZNAME:CET
DTSTART:20241027T010000
END:STANDARD
BEGIN:DAYLIGHT
TZOFFSETFROM:+0100
TZOFFSETTO:+0200
TZNAME:CEST
DTSTART:20250330T010000
END:DAYLIGHT
BEGIN:STANDARD
TZOFFSETFROM:+0200
TZOFFSETTO:+0100
TZNAME:CET
DTSTART:20251026T010000
END:STANDARD
END:VTIMEZONE
BEGIN:VEVENT
DTSTART;TZID=Europe/Rome:20240822T080000
DTEND;TZID=Europe/Rome:20240822T170000
DTSTAMP:20260423T101814
CREATED:20240808T181643Z
LAST-MODIFIED:20240819T095609Z
UID:13178-1724313600-1724346000@parcolucretili.it
SUMMARY:Escursione sui Lucretili M. Spaccato - M. Gennaro
DESCRIPTION:L’escursionismo in montagna è un’attività fantastica per immergersi nella natura\, fare esercizio fisico e godere di paesaggi mozzafiato.\nQuesto percorso dal M. Spaccato al M. Gennaro è un percorso che unisce natura\, cultura e panorami mozzafiato. \n 
URL:https://parcolucretili.it/event/escursione-sui-lucretili-m-spaccato-m-gennaro/
LOCATION:Prato Favale\, Prato Favale\, Marcellina\, Roma\, 00010\, Italia
CATEGORIES:Escursioni
ATTACH;FMTTYPE=image/jpeg:https://parcolucretili.it/wp-content/uploads/2024/08/22-agosto-monte-gennaro.jpg
END:VEVENT
END:VCALENDAR