BEGIN:VCALENDAR
VERSION:2.0
PRODID:-//Parco dei Monti Lucretili - ECPv6.15.20//NONSGML v1.0//EN
CALSCALE:GREGORIAN
METHOD:PUBLISH
X-WR-CALNAME:Parco dei Monti Lucretili
X-ORIGINAL-URL:https://parcolucretili.it
X-WR-CALDESC:Eventi per Parco dei Monti Lucretili
REFRESH-INTERVAL;VALUE=DURATION:PT1H
X-Robots-Tag:noindex
X-PUBLISHED-TTL:PT1H
BEGIN:VTIMEZONE
TZID:Europe/Rome
BEGIN:DAYLIGHT
TZOFFSETFROM:+0100
TZOFFSETTO:+0200
TZNAME:CEST
DTSTART:20230326T010000
END:DAYLIGHT
BEGIN:STANDARD
TZOFFSETFROM:+0200
TZOFFSETTO:+0100
TZNAME:CET
DTSTART:20231029T010000
END:STANDARD
BEGIN:DAYLIGHT
TZOFFSETFROM:+0100
TZOFFSETTO:+0200
TZNAME:CEST
DTSTART:20240331T010000
END:DAYLIGHT
BEGIN:STANDARD
TZOFFSETFROM:+0200
TZOFFSETTO:+0100
TZNAME:CET
DTSTART:20241027T010000
END:STANDARD
BEGIN:DAYLIGHT
TZOFFSETFROM:+0100
TZOFFSETTO:+0200
TZNAME:CEST
DTSTART:20250330T010000
END:DAYLIGHT
BEGIN:STANDARD
TZOFFSETFROM:+0200
TZOFFSETTO:+0100
TZNAME:CET
DTSTART:20251026T010000
END:STANDARD
END:VTIMEZONE
BEGIN:VEVENT
DTSTART;TZID=Europe/Rome:20240525T090000
DTEND;TZID=Europe/Rome:20240525T170000
DTSTAMP:20260423T145135
CREATED:20240516T100721Z
LAST-MODIFIED:20240516T103915Z
UID:12765-1716627600-1716656400@parcolucretili.it
SUMMARY:Escursione alla cima del Pellecchia
DESCRIPTION:L’ASD Bike and Hike Italia guida una escursione di 14 km\, con dislivello di 700 m di classificazione medio impegnativa e percorrenza di 5/6 ore con rientro previsto tra le 16 e le 17. Si consiglia abbigliamento e scarpe da montagna\, cibo e acqua a sufficienza.
URL:https://parcolucretili.it/event/escursione-alla-cima-del-pellecchia/
LOCATION:Pineta di Monteflavio\, Pineta di Monteflavio\, Monteflavio\, Roma\, 00010\, Italia
CATEGORIES:Escursioni
ATTACH;FMTTYPE=image/jpeg:https://parcolucretili.it/wp-content/uploads/2024/05/Locandine-format-primavera-2024-25-maggio-bike-and-hike-page-001-scaled.jpg
ORGANIZER;CN="Parco Naturale Regionale dei Monti Lucretili":MAILTO:info@parcolucretili.it
END:VEVENT
END:VCALENDAR