BEGIN:VCALENDAR
VERSION:2.0
PRODID:-//Parco dei Monti Lucretili - ECPv6.15.20//NONSGML v1.0//EN
CALSCALE:GREGORIAN
METHOD:PUBLISH
X-WR-CALNAME:Parco dei Monti Lucretili
X-ORIGINAL-URL:https://parcolucretili.it
X-WR-CALDESC:Eventi per Parco dei Monti Lucretili
REFRESH-INTERVAL;VALUE=DURATION:PT1H
X-Robots-Tag:noindex
X-PUBLISHED-TTL:PT1H
BEGIN:VTIMEZONE
TZID:Europe/Rome
BEGIN:DAYLIGHT
TZOFFSETFROM:+0100
TZOFFSETTO:+0200
TZNAME:CEST
DTSTART:20240331T010000
END:DAYLIGHT
BEGIN:STANDARD
TZOFFSETFROM:+0200
TZOFFSETTO:+0100
TZNAME:CET
DTSTART:20241027T010000
END:STANDARD
BEGIN:DAYLIGHT
TZOFFSETFROM:+0100
TZOFFSETTO:+0200
TZNAME:CEST
DTSTART:20250330T010000
END:DAYLIGHT
BEGIN:STANDARD
TZOFFSETFROM:+0200
TZOFFSETTO:+0100
TZNAME:CET
DTSTART:20251026T010000
END:STANDARD
BEGIN:DAYLIGHT
TZOFFSETFROM:+0100
TZOFFSETTO:+0200
TZNAME:CEST
DTSTART:20260329T010000
END:DAYLIGHT
BEGIN:STANDARD
TZOFFSETFROM:+0200
TZOFFSETTO:+0100
TZNAME:CET
DTSTART:20261025T010000
END:STANDARD
END:VTIMEZONE
BEGIN:VEVENT
DTSTART;TZID=Europe/Rome:20250831T080000
DTEND;TZID=Europe/Rome:20250906T180000
DTSTAMP:20260422T091433
CREATED:20250813T124923Z
LAST-MODIFIED:20250813T124923Z
UID:14370-1756627200-1757181600@parcolucretili.it
SUMMARY:Inaugurazione del Cammino dei Lucretili – 31 agosto / 6 settembre 2025
DESCRIPTION:🌿 Il Parco Naturale Regionale dei Monti Lucretili è lieto di annunciare l’inaugurazione ufficiale del Cammino dei Lucretili\, il lungo cammino ad anello più vicino a Roma\, che si svolgerà dal 31 agosto al 6 settembre 2025 con partenza e arrivo a San Polo dei Cavalieri. \n📍 Questo progetto rappresenta una tappa strategica fondamentale per l’Ente Parco\, volto a promuovere un modello di fruizione sostenibile del territorio\, valorizzando la rete sentieristica\, i borghi storici e le risorse ambientali e culturali dell’area protetta.\n🌱 Il Cammino dei Lucretili si configura come un’infrastruttura verde capace di generare impatto positivo su turismo\, economia locale e consapevolezza ambientale. \n💚 L’iniziativa nasce anche dalla passione e dall’impegno di chi ha ideato il percorso\, con l’obiettivo di offrire un’esperienza autentica e coinvolgente\, in grado di connettere le persone alla natura e alla storia del territorio.\n📖 Ogni tappa del cammino è pensata per raccontare un frammento di bellezza\, accoglienza e identità. \n🚶‍♂️ Il giro inaugurale si articolerà in 7 tappe: \n📅 31/8: San Polo dei Cavalieri / Marcellina – Palombara Sabina\n📅 1/9: Palombara Sabina / Moricone – Monteflavio\n📅 2/9: Monteflavio – Scandriglia\n📅 3/9: Scandriglia – Poggio Moiano\n📅 4/9: Poggio Moiano – Orvinio\n📅 5/9: Orvinio / Percile – Licenza\n📅 6/9: Licenza / Roccagiovine / Vicovaro – San Polo dei Cavalieri \n🗺️ Il Cammino sarà percorribile per l’intero giro o anche solo per singole tappe\, offrendo a tutti la possibilità di partecipare e vivere un’esperienza immersiva tra trekking\, territorio e natura. \n📣 L’Ente Parco invita cittadini\, escursionisti\, associazioni e istituzioni a unirsi a questo momento storico\, che segna l’avvio di un nuovo modo di vivere e raccontare il Parco dei Monti Lucretili. \n🔗 Prenotazioni a questo link
URL:https://parcolucretili.it/event/inaugurazione-del-cammino-dei-lucretili-31-agosto-6-settembre-2025/
LOCATION:San Polo dei Cavalieri\, Via dei Cavalieri\, San Polo dei Cavalieri\, Roma\, 00010\, Italia
CATEGORIES:Cammino dei Lucretili,Escursioni
ATTACH;FMTTYPE=image/jpeg:https://parcolucretili.it/wp-content/uploads/2025/08/volantino-del-cammino-per-sito-scaled.jpg
ORGANIZER;CN="Parco Naturale Regionale dei Monti Lucretili":MAILTO:info@parcolucretili.it
END:VEVENT
BEGIN:VEVENT
DTSTART;TZID=Europe/Rome:20250921T090000
DTEND;TZID=Europe/Rome:20250921T180000
DTSTAMP:20260422T091433
CREATED:20250915T073220Z
LAST-MODIFIED:20250915T094634Z
UID:14428-1758445200-1758477600@parcolucretili.it
SUMMARY:Sicurezza in  Montagna con i Volontari dei Lucretili - Vicovaro
DESCRIPTION:Vicovaro 21 Settembre 2025 dalle ore 9.00 alle ore 18:00\nUna giornata dedicata alla sicurezza\, alla natura e al divertimento per i più piccoli\, con la partecipazione di istituzioni e associazioni del territorio\, a memoria del tragico incidente avvenuto presso il Canalone del Ronci. \nOre 9:30 – “Io gioco con Sam il Pompiere”\nAttività ludico-educative per bambini\nA cura dell’Associazione Nazionale Vigili del Fuoco in Congedo \nOre 11:30 – Convegno sulla Sicurezza in Montagna\nAprono i lavori: \n\nDott.ssa Laura Mattiucci – Commissario del Comune di Vicovaro\nDott. Marco Piergotti – Commissario Straordinario del Parco Naturale Regionale dei Monti Lucretili\nDott. Alessandro Palombi – Deputato della Repubblica Italiana\n\nInterverranno al convegno i rappresentanti istituzionali: \n\nVigili del Fuoco\nProtezione Civile\nSoccorso Alpino\nClub Alpino Italiano (CAI)\nGuardiaparco\n\nOre 14:30 – Escursione guidata\nVisita agli Eremi di San Benedetto\nIn collaborazione con Aniene Turismo \nOre 15:00 – Attrazioni e attività per bambini\nGiochi\, animazione e intrattenimento \n21 Settembre 2025 – Palazzo Cenci Bolognetti Via Regina Margherita\, 17\, 00029 Vicovaro (RM) \nPER INFORMAZIONI TEL. 346 0903102 \n  \n 
URL:https://parcolucretili.it/event/sicurezza-in-montagna-con-i-volontari-dei-lucretili-vicovaro/
LOCATION:Vicovaro\, Vicovaro
CATEGORIES:Convegni,Escursioni,Manifestazioni
ATTACH;FMTTYPE=image/jpeg:https://parcolucretili.it/wp-content/uploads/2025/09/Programma-evento-sicurezza-volontariato-defin.jpg
ORGANIZER;CN="Parco Naturale Regionale dei Monti Lucretili":MAILTO:info@parcolucretili.it
END:VEVENT
END:VCALENDAR