BEGIN:VCALENDAR
VERSION:2.0
PRODID:-//Parco dei Monti Lucretili - ECPv6.15.20//NONSGML v1.0//EN
CALSCALE:GREGORIAN
METHOD:PUBLISH
X-ORIGINAL-URL:https://parcolucretili.it
X-WR-CALDESC:Eventi per Parco dei Monti Lucretili
REFRESH-INTERVAL;VALUE=DURATION:PT1H
X-Robots-Tag:noindex
X-PUBLISHED-TTL:PT1H
BEGIN:VTIMEZONE
TZID:Europe/Rome
BEGIN:DAYLIGHT
TZOFFSETFROM:+0100
TZOFFSETTO:+0200
TZNAME:CEST
DTSTART:20240331T010000
END:DAYLIGHT
BEGIN:STANDARD
TZOFFSETFROM:+0200
TZOFFSETTO:+0100
TZNAME:CET
DTSTART:20241027T010000
END:STANDARD
BEGIN:DAYLIGHT
TZOFFSETFROM:+0100
TZOFFSETTO:+0200
TZNAME:CEST
DTSTART:20250330T010000
END:DAYLIGHT
BEGIN:STANDARD
TZOFFSETFROM:+0200
TZOFFSETTO:+0100
TZNAME:CET
DTSTART:20251026T010000
END:STANDARD
BEGIN:DAYLIGHT
TZOFFSETFROM:+0100
TZOFFSETTO:+0200
TZNAME:CEST
DTSTART:20260329T010000
END:DAYLIGHT
BEGIN:STANDARD
TZOFFSETFROM:+0200
TZOFFSETTO:+0100
TZNAME:CET
DTSTART:20261025T010000
END:STANDARD
END:VTIMEZONE
BEGIN:VEVENT
DTSTART;TZID=Europe/Rome:20250712T190000
DTEND;TZID=Europe/Rome:20250712T233000
DTSTAMP:20260422T123510
CREATED:20250709T084908Z
LAST-MODIFIED:20250709T084908Z
UID:14214-1752346800-1752363000@parcolucretili.it
SUMMARY:🎒🌌 Chi si sveglia di notte? - Osservazioni naturalistiche
DESCRIPTION:🎒🌌 CHI SI SVEGLIA DI NOTTE? \nTrekking serale alla scoperta della fauna selvatica del Monte Gennaro \nHai mai camminato nella natura al calar del sole\, ascoltando i suoni misteriosi della notte?\nSabato 12 luglio\, unisciti a noi per un’escursione unica\, immersi nella magia del Parco dei Monti Lucretili! \n📍 Punto di partenza: Prato Favale\n🕖 Partenza: ore 19:00\n🕚 Rientro previsto: ore 23:00 \nIl trekking partirà da Prato Favale\, per raggiungere i suggestivi pascoli ai piedi del Monte Gennaro – Pratoni del Gennaro\, Campitello e Le Forme – per condurre osservazioni naturalistiche della fauna selvatica notturna. \n🌿 Un’occasione imperdibile per vivere la natura in modo diverso\, accompagnati da esperti che ci guideranno tra suoni\, tracce e presenze che si rivelano solo dopo il tramonto. \n🔦 Porta con te scarpe comode\, una torcia e tanta curiosità! \nPer info: pietro.montemurro@lupotrek.it   tel. 392 35 07 644
URL:https://parcolucretili.it/event/%f0%9f%8e%92%f0%9f%8c%8c-chi-si-sveglia-di-notte-osservazioni-naturalistiche/
LOCATION:Prato Favale\, Prato Favale\, Marcellina\, Roma\, 00010\, Italia
CATEGORIES:Educazione Ambientale,Escursioni
ATTACH;FMTTYPE=image/png:https://parcolucretili.it/wp-content/uploads/2025/07/Calendari-LT-4.png
ORGANIZER;CN="Parco Naturale Regionale dei Monti Lucretili":MAILTO:info@parcolucretili.it
END:VEVENT
BEGIN:VEVENT
DTSTART;TZID=Europe/Rome:20250713T080000
DTEND;TZID=Europe/Rome:20250713T170000
DTSTAMP:20260422T123510
CREATED:20250626T070657Z
LAST-MODIFIED:20250626T070657Z
UID:14131-1752393600-1752426000@parcolucretili.it
SUMMARY:🎒 Un viaggio nel tempo - natura\, storia e divertimento per tutta la famiglia
DESCRIPTION:🌿 13 LUGLIO 2025 – LICENZA (RM) \nPreparati a vivere una giornata unica tra cultura\, natura e avventura nel cuore del Parco Naturale dei Monti Lucretili! Un evento pensato per grandi e piccoli\, con attività differenziate ma unite da un’unica emozione: scoprire la bellezza di Licenza tra passato e presente. \n📜 SI PARTE CON LA STORIA!Visiteremo il Museo Oraziano e la suggestiva Villa di Orazio\, per conoscere da vicino la figura del poeta latino Quinto Orazio Flacco e scoprire come viveva nell’antica Roma\, tra versi\, rovine e racconti immersivi. \n🥾 DUE ESCURSIONI\, UN’ESPERIENZA INDIMENTICABILEDal sito archeologico\, due percorsi naturalistici adatti a ogni esigenza: \n👨‍👩‍👧 Gruppo FAMILYCon la guida GAEE FIPTES Stefania Raimondi\, un’escursione breve\, panoramica e ombreggiata fino al Ninfeo degli Orsini\, la leggendaria Fonte Bandusia. Ideale per famiglie con bambini! \n⛰️ Gruppo percorso COMPLETOCon la guida GAEE FIPTES Francesca Zannoni\, un percorso più lungo e immersivo fino al Fosso di Vena Scritta\, tra scenari naturali mozzafiato nel cuore del Parco. \n🎨 LABORATORIO NATURALISTICODurante l’escursione Family\, i più piccoli parteciperanno al laboratorio creativo “La costruzione dell’aquila reale”\, dove realizzeranno e decoreranno un’aquila reale in legno da portare a casa come ricordo dell’esperienza! \n\n🎯 Evento a numero chiuso – Prenotazione obbligatoria📞 Info e prenotazioni:👉 Francesca Zannoni – 380 6864544👉 Stefania Raimondi – 333 2157150 \n🎒 Equipaggiamento obbligatorio: scarpe da trekking\, zaino\, 2 litri d’acqua\, pranzo al sacco\, abbigliamento adatto alla stagione.La guida si riserva di escludere i partecipanti non adeguatamente equipaggiati.
URL:https://parcolucretili.it/event/%f0%9f%8e%92-un-viaggio-nel-tempo-natura-storia-e-divertimento-per-tutta-la-famiglia/
LOCATION:Licenza\, Via Orazio Flacco\, Licenza\, Roma\, 00026\, Italia
CATEGORIES:Escursioni
ATTACH;FMTTYPE=application/pdf:https://parcolucretili.it/wp-content/uploads/2025/06/def-FAMILYTREK-LICENZA-Locandine-format-ESTATE-2025-per-PowerPoint.pdf
ORGANIZER;CN="Parco Naturale Regionale dei Monti Lucretili":MAILTO:info@parcolucretili.it
END:VEVENT
BEGIN:VEVENT
DTSTART;TZID=Europe/Rome:20250719T090000
DTEND;TZID=Europe/Rome:20250719T170000
DTSTAMP:20260422T123510
CREATED:20250624T094521Z
LAST-MODIFIED:20250718T201050Z
UID:14124-1752915600-1752944400@parcolucretili.it
SUMMARY:Lagustelli di Percile - Natura\, scoperta e avventura
DESCRIPTION:🌿 Esplora la Natura ai Lagustelli di Percile! 🌿\nParco Naturale Regionale dei Monti Lucretili\n📅  19 Luglio | 🕘  ore 9.00 Percile (RM)\, Piazza G. Garibaldi  \nUnisciti a noi per una giornata indimenticabile immersi nella natura incontaminata del Parco dei Monti Lucretili!\nScopriremo insieme i suggestivi Lagustelli di Percile\, due laghi di origine carsica incastonati tra boschi e paesaggi mozzafiato. \n👣 Cosa ti faremo: \n\nAlla scoperta dei luoghi incantati nel Parco dei Monti Lucretili\, i lagustrelli di Percile. Una giornata adatta per tutti\, \, con diverse attività sia per adulti che bambini. Per scoprire il territorio naturalistico di Percile.\nTrekking adatto a tutti volto alla scoperta dei lagustrelli carsici Fraturno e Marraone\, con la loro ricchezza di flora e fauna.\nVisita al Museo Naturalistico – Preistorico di Percile per vedere l’origine e la storia del Parco dei Monti Lucretili.\n\nDati tecnici \nObbligo scarponi da trekking – Zaino – Acqua (minimo 2 litri) –\nLunghezza: 5\,00 km – Dislivello: 200 m\n– Difficoltà: Poco impegnativo \nDettagli tecnici \nLe tre A per l’escursione:\nAbbigliamento:\nPantaloni lunghi\, vestiario a strati da maglietta a maniche corte a pile a guscio\, cappellino da sole o copricapo\, scaldacollo in lana o cotone secondo condizioni\, ghette\, un capo caldo.\nAttrezzatura:\nGiacca antipioggia\, acqua (2 l)\, bastoncini da trekking\, maglietta di ricambio\, un cambio completo da lasciare in auto scarpe comprese\, occhiali da sole\, crema protettiva.\nAlimentazione:\nSnack energetici\, barrette\, frutta secca\, frutta\, per il pranzo al sacco consigliati pasti leggeri e facilmente digeribili.\n\nSicurezza:\nItinarrando utilizza PRM canale 8/16 in collegamento con Rete Radio Montana\nLe guide e gli accompagnatori volontari di Itinarrando sono dotati di corso BLSD e Primo Soccorso. \n🌱 Un’esperienza adatta a tutti\, perfetta per famiglie\, appassionati di natura e curiosi di ogni età! \nGUIDA: Andrea Masulli Accompagnatori: Itinarrando \n📍 Ritrovo: Percile (RM)\n📞 Prenotazione obbligatoria al 380 7651894 \n 
URL:https://parcolucretili.it/event/lagustelli-di-percile-natura-scoperta-e-avventura/
LOCATION:Percile\, Via Roma\, Percile\, Roma\, 00020\, Italia
CATEGORIES:Escursioni
ATTACH;FMTTYPE=image/jpeg:https://parcolucretili.it/wp-content/uploads/2025/06/itinarrando-19-luglio-percile-modificata-scaled.jpg
END:VEVENT
BEGIN:VEVENT
DTSTART;TZID=Europe/Rome:20250726T083000
DTEND;TZID=Europe/Rome:20250726T160000
DTSTAMP:20260422T123510
CREATED:20250722T082226Z
LAST-MODIFIED:20250722T084619Z
UID:14318-1753518600-1753545600@parcolucretili.it
SUMMARY:DOVE VOLANO LE AQUILE
DESCRIPTION:🌄 DOVE VOLANO LE AQUILE\n📅 Sabato 26 luglio 2025 – Monteflavio (RM) \nVivi un’esperienza indimenticabile nel cuore del Parco Naturale Regionale dei Monti Lucretili!\nUn’escursione pomeridiana con rientro in notturna\, dedicata alla maestosa aquila reale\, simbolo di libertà e regina dei cieli. \n🚶‍♂️ Cosa ti aspetta: \n• Possibilità di avvistare l’aquila reale \n📍 Partenza: ore 8:30 da Monteflavio (RM)\n📏 Dislivello: 700 m | Lunghezza: 12 km | Difficoltà: media\n🎒 Obbligatori: scarpe da trekking\, torcia frontale\, 2L d’acqua\, pranzo al sacco\n👣 Guida: Giulio Ferrante – 📞 333 4846524 \n📌 La posizione esatta verrà comunicata al momento della prenotazione. \n🌿 Alla scoperta della biodiversità dei Monti Lucretili con Lupo Trek©
URL:https://parcolucretili.it/event/dove-volano-le-aquile/
LOCATION:Monteflavio\, Via di Monte Pellecchia\, Monteflavio\, Roma\, 00010\, Italia
CATEGORIES:Escursioni
ATTACH;FMTTYPE=image/jpeg:https://parcolucretili.it/wp-content/uploads/2025/07/26-lupotrek-cambio-orario-scaled.jpg
ORGANIZER;CN="Parco Naturale Regionale dei Monti Lucretili":MAILTO:info@parcolucretili.it
END:VEVENT
END:VCALENDAR