BEGIN:VCALENDAR
VERSION:2.0
PRODID:-//Parco dei Monti Lucretili - ECPv6.15.20//NONSGML v1.0//EN
CALSCALE:GREGORIAN
METHOD:PUBLISH
X-ORIGINAL-URL:https://parcolucretili.it
X-WR-CALDESC:Eventi per Parco dei Monti Lucretili
REFRESH-INTERVAL;VALUE=DURATION:PT1H
X-Robots-Tag:noindex
X-PUBLISHED-TTL:PT1H
BEGIN:VTIMEZONE
TZID:Europe/Rome
BEGIN:DAYLIGHT
TZOFFSETFROM:+0100
TZOFFSETTO:+0200
TZNAME:CEST
DTSTART:20220327T010000
END:DAYLIGHT
BEGIN:STANDARD
TZOFFSETFROM:+0200
TZOFFSETTO:+0100
TZNAME:CET
DTSTART:20221030T010000
END:STANDARD
BEGIN:DAYLIGHT
TZOFFSETFROM:+0100
TZOFFSETTO:+0200
TZNAME:CEST
DTSTART:20230326T010000
END:DAYLIGHT
BEGIN:STANDARD
TZOFFSETFROM:+0200
TZOFFSETTO:+0100
TZNAME:CET
DTSTART:20231029T010000
END:STANDARD
BEGIN:DAYLIGHT
TZOFFSETFROM:+0100
TZOFFSETTO:+0200
TZNAME:CEST
DTSTART:20240331T010000
END:DAYLIGHT
BEGIN:STANDARD
TZOFFSETFROM:+0200
TZOFFSETTO:+0100
TZNAME:CET
DTSTART:20241027T010000
END:STANDARD
END:VTIMEZONE
BEGIN:VEVENT
DTSTART;TZID=Europe/Rome:20230827T083000
DTEND;TZID=Europe/Rome:20230827T170000
DTSTAMP:20260424T041357
CREATED:20230822T124305Z
LAST-MODIFIED:20230822T124305Z
UID:11938-1693125000-1693155600@parcolucretili.it
SUMMARY:Escursione e mountain bike a Monteflavio
DESCRIPTION:L’ASD Polisportiva di Monteflavio organizza e guida una bella escursione domenica 27 agosto nell’ambito degli Eventi Estivi nei Parchi.
URL:https://parcolucretili.it/event/escursione-e-mountain-bike-a-monteflavio/
LOCATION:Bar Gilardi Piazza Vittorio Monteflavio\, Piazza Vittorio\, Monteflavio
CATEGORIES:Attività Sportiva,Escursioni
END:VEVENT
END:VCALENDAR