BEGIN:VCALENDAR
VERSION:2.0
PRODID:-//Parco dei Monti Lucretili - ECPv6.15.20//NONSGML v1.0//EN
CALSCALE:GREGORIAN
METHOD:PUBLISH
X-WR-CALNAME:Parco dei Monti Lucretili
X-ORIGINAL-URL:https://parcolucretili.it
X-WR-CALDESC:Eventi per Parco dei Monti Lucretili
REFRESH-INTERVAL;VALUE=DURATION:PT1H
X-Robots-Tag:noindex
X-PUBLISHED-TTL:PT1H
BEGIN:VTIMEZONE
TZID:Europe/Rome
BEGIN:DAYLIGHT
TZOFFSETFROM:+0100
TZOFFSETTO:+0200
TZNAME:CEST
DTSTART:20240331T010000
END:DAYLIGHT
BEGIN:STANDARD
TZOFFSETFROM:+0200
TZOFFSETTO:+0100
TZNAME:CET
DTSTART:20241027T010000
END:STANDARD
BEGIN:DAYLIGHT
TZOFFSETFROM:+0100
TZOFFSETTO:+0200
TZNAME:CEST
DTSTART:20250330T010000
END:DAYLIGHT
BEGIN:STANDARD
TZOFFSETFROM:+0200
TZOFFSETTO:+0100
TZNAME:CET
DTSTART:20251026T010000
END:STANDARD
BEGIN:DAYLIGHT
TZOFFSETFROM:+0100
TZOFFSETTO:+0200
TZNAME:CEST
DTSTART:20260329T010000
END:DAYLIGHT
BEGIN:STANDARD
TZOFFSETFROM:+0200
TZOFFSETTO:+0100
TZNAME:CET
DTSTART:20261025T010000
END:STANDARD
END:VTIMEZONE
BEGIN:VEVENT
DTSTART;TZID=Europe/Rome:20250831T093000
DTEND;TZID=Europe/Rome:20250831T173000
DTSTAMP:20260422T223802
CREATED:20250827T102320Z
LAST-MODIFIED:20250827T102405Z
UID:14403-1756632600-1756661400@parcolucretili.it
SUMMARY:Piccoli Esploratori a Montorio Romano
DESCRIPTION:Una giornata di puro divertimento per i più piccoli!!
URL:https://parcolucretili.it/event/piccoli-esploratori-a-montorio-romano/
LOCATION:Montorio Romano\, Viale Martiri del Congo\, Montorio Romano\, Roma\, 00010\, Italia
CATEGORIES:Educazione Ambientale
ATTACH;FMTTYPE=image/jpeg:https://parcolucretili.it/wp-content/uploads/2025/08/Montorio-Estate.jpg
END:VEVENT
END:VCALENDAR