BEGIN:VCALENDAR
VERSION:2.0
PRODID:-//Parco dei Monti Lucretili - ECPv6.15.20//NONSGML v1.0//EN
CALSCALE:GREGORIAN
METHOD:PUBLISH
X-ORIGINAL-URL:https://parcolucretili.it
X-WR-CALDESC:Eventi per Parco dei Monti Lucretili
REFRESH-INTERVAL;VALUE=DURATION:PT1H
X-Robots-Tag:noindex
X-PUBLISHED-TTL:PT1H
BEGIN:VTIMEZONE
TZID:Europe/Rome
BEGIN:DAYLIGHT
TZOFFSETFROM:+0100
TZOFFSETTO:+0200
TZNAME:CEST
DTSTART:20240331T010000
END:DAYLIGHT
BEGIN:STANDARD
TZOFFSETFROM:+0200
TZOFFSETTO:+0100
TZNAME:CET
DTSTART:20241027T010000
END:STANDARD
BEGIN:DAYLIGHT
TZOFFSETFROM:+0100
TZOFFSETTO:+0200
TZNAME:CEST
DTSTART:20250330T010000
END:DAYLIGHT
BEGIN:STANDARD
TZOFFSETFROM:+0200
TZOFFSETTO:+0100
TZNAME:CET
DTSTART:20251026T010000
END:STANDARD
BEGIN:DAYLIGHT
TZOFFSETFROM:+0100
TZOFFSETTO:+0200
TZNAME:CEST
DTSTART:20260329T010000
END:DAYLIGHT
BEGIN:STANDARD
TZOFFSETFROM:+0200
TZOFFSETTO:+0100
TZNAME:CET
DTSTART:20261025T010000
END:STANDARD
END:VTIMEZONE
BEGIN:VEVENT
DTSTART;TZID=Europe/Rome:20251221T150000
DTEND;TZID=Europe/Rome:20251221T190000
DTSTAMP:20260419T183658
CREATED:20251210T125538Z
LAST-MODIFIED:20251210T125559Z
UID:14639-1766329200-1766343600@parcolucretili.it
SUMMARY:Solstizio d'inverno - Marcellina
DESCRIPTION:Solstizio d’Inverno – Marcellina\, 21 dicembre 2025 \n\nIl Parco Naturale Regionale dei Monti Lucretili ti invita a celebrare il solstizio d’inverno con una giornata speciale all’insegna della natura e della sostenibilità! \nDove: Presso la parrocchia Cristo Re\, via Cristo Re 00010 Marcellina (RM)\nQuando: 21 dicembre 2025\, dalle ore 15:00 \nProgramma: \n\nSaluti istituzionali e incontro plenario del Forum della Carta Europea del Turismo Sostenibile\nMonitoraggio e rafforzamento operativo della CETS\nPresentazione delle Legge Regionale e attività di vigilanza ecologica\nCoro Gospel “Free Voices of Love”\n\nA seguire:\nBuffet con degustazione di prodotti tipici\, vin brulé\, castagne e cioccolato.\nIntrattenimento per bambini durante l’evento! \n“La luce del solstizio accende il Cammino verso una Nuova Stagione”
URL:https://parcolucretili.it/event/solstizio-dinverno-marcellina/
LOCATION:Centro Visita Marcellina\, Via Per San Polo\, Marcellina
CATEGORIES:Convegni,Manifestazione enogastronomica
ATTACH;FMTTYPE=image/jpeg:https://parcolucretili.it/wp-content/uploads/2025/12/locandina-soltstizio.jpg
ORGANIZER;CN="Parco Naturale Regionale dei Monti Lucretili":MAILTO:info@parcolucretili.it
END:VEVENT
END:VCALENDAR