BEGIN:VCALENDAR
VERSION:2.0
PRODID:-//Parco dei Monti Lucretili - ECPv6.15.20//NONSGML v1.0//EN
CALSCALE:GREGORIAN
METHOD:PUBLISH
X-ORIGINAL-URL:https://parcolucretili.it
X-WR-CALDESC:Eventi per Parco dei Monti Lucretili
REFRESH-INTERVAL;VALUE=DURATION:PT1H
X-Robots-Tag:noindex
X-PUBLISHED-TTL:PT1H
BEGIN:VTIMEZONE
TZID:Europe/Rome
BEGIN:DAYLIGHT
TZOFFSETFROM:+0100
TZOFFSETTO:+0200
TZNAME:CEST
DTSTART:20230326T010000
END:DAYLIGHT
BEGIN:STANDARD
TZOFFSETFROM:+0200
TZOFFSETTO:+0100
TZNAME:CET
DTSTART:20231029T010000
END:STANDARD
BEGIN:DAYLIGHT
TZOFFSETFROM:+0100
TZOFFSETTO:+0200
TZNAME:CEST
DTSTART:20240331T010000
END:DAYLIGHT
BEGIN:STANDARD
TZOFFSETFROM:+0200
TZOFFSETTO:+0100
TZNAME:CET
DTSTART:20241027T010000
END:STANDARD
BEGIN:DAYLIGHT
TZOFFSETFROM:+0100
TZOFFSETTO:+0200
TZNAME:CEST
DTSTART:20250330T010000
END:DAYLIGHT
BEGIN:STANDARD
TZOFFSETFROM:+0200
TZOFFSETTO:+0100
TZNAME:CET
DTSTART:20251026T010000
END:STANDARD
END:VTIMEZONE
BEGIN:VEVENT
DTSTART;TZID=Europe/Rome:20241109T080000
DTEND;TZID=Europe/Rome:20241109T233000
DTSTAMP:20260420T170156
CREATED:20241024T093808Z
LAST-MODIFIED:20241108T131925Z
UID:13466-1731139200-1731195000@parcolucretili.it
SUMMARY:400 anni dalla donazione dell'Occhialino di Galileo Galilei a Federico Cesi
DESCRIPTION:Un avvenimento storico importantissimo\, un anniversario che dopo 400 anni segna un momento di crescita per la scienza e la nostra società: Galileo Galilei dona a Federico Cesi l’Occhialino\, il primo microscopio della storia\, e che servirà al Linceo di approfondire le sue ricerche nei Monti Lucretili. \nProgramma della giornata a San Polo dei Cavalieri \n\n8.30 Escursione anfteatro linceo\n16.30 Presentazione dell’evento\n17.00 Proiezione filmati\n19.30 Apericena e visita al castello\n21.00 Osservazione delle stelle con omaggio a Galileo\, con Vin Brulè\, cioccolato e castagne\n\nPOSTI LIMITATI ALLA CAPIENZA DELLA SALA
URL:https://parcolucretili.it/event/400-anni-dalla-donazione-dellocchialino-di-galileo-galilei-a-federico-cesi/
LOCATION:San Polo dei Cavalieri\, Via dei Cavalieri\, San Polo dei Cavalieri\, Roma\, 00010\, Italia
CATEGORIES:Convegni,Escursioni
ATTACH;FMTTYPE=image/jpeg:https://parcolucretili.it/wp-content/uploads/2024/10/CESI.jpg
END:VEVENT
END:VCALENDAR