BEGIN:VCALENDAR
VERSION:2.0
PRODID:-//Parco dei Monti Lucretili - ECPv6.15.20//NONSGML v1.0//EN
CALSCALE:GREGORIAN
METHOD:PUBLISH
X-WR-CALNAME:Parco dei Monti Lucretili
X-ORIGINAL-URL:https://parcolucretili.it
X-WR-CALDESC:Eventi per Parco dei Monti Lucretili
REFRESH-INTERVAL;VALUE=DURATION:PT1H
X-Robots-Tag:noindex
X-PUBLISHED-TTL:PT1H
BEGIN:VTIMEZONE
TZID:Europe/Rome
BEGIN:DAYLIGHT
TZOFFSETFROM:+0100
TZOFFSETTO:+0200
TZNAME:CEST
DTSTART:20230326T010000
END:DAYLIGHT
BEGIN:STANDARD
TZOFFSETFROM:+0200
TZOFFSETTO:+0100
TZNAME:CET
DTSTART:20231029T010000
END:STANDARD
BEGIN:DAYLIGHT
TZOFFSETFROM:+0100
TZOFFSETTO:+0200
TZNAME:CEST
DTSTART:20240331T010000
END:DAYLIGHT
BEGIN:STANDARD
TZOFFSETFROM:+0200
TZOFFSETTO:+0100
TZNAME:CET
DTSTART:20241027T010000
END:STANDARD
BEGIN:DAYLIGHT
TZOFFSETFROM:+0100
TZOFFSETTO:+0200
TZNAME:CEST
DTSTART:20250330T010000
END:DAYLIGHT
BEGIN:STANDARD
TZOFFSETFROM:+0200
TZOFFSETTO:+0100
TZNAME:CET
DTSTART:20251026T010000
END:STANDARD
END:VTIMEZONE
BEGIN:VEVENT
DTSTART;TZID=Europe/Rome:20240629T100000
DTEND;TZID=Europe/Rome:20240629T180000
DTSTAMP:20260421T014933
CREATED:20240621T115019Z
LAST-MODIFIED:20240621T115407Z
UID:12991-1719655200-1719684000@parcolucretili.it
SUMMARY:Convegno e una giornata di studio
DESCRIPTION:Convegno e una giornata di studio Sabato 29 Giugno -“Ricerca artistica\, arte pubblica\, pratiche partecipative e rigenerazione urbana nella Valle dell’Aniene. \nSabato 29 giugno 2024\nMuseo Archeologico Oraziano – Palazzo Baronale Orsini\nOre 10.00 – 13:00\nLicenza (RM) \nSabato 29 giugno 2024.\nMuseo dell’Aquila reale – MusAQ\nOre 16.00 – 18:00\nCivitella di Licenza (RM) \n  \n 
URL:https://parcolucretili.it/event/convegno-e-una-giornata-di-studio/
LOCATION:Licenza\, Via Orazio Flacco\, Licenza\, Roma\, 00026\, Italia
CATEGORIES:Convegni
ATTACH;FMTTYPE=image/jpeg:https://parcolucretili.it/wp-content/uploads/2017/12/vi-orazio-Copy.jpg
END:VEVENT
END:VCALENDAR