BEGIN:VCALENDAR
VERSION:2.0
PRODID:-//Parco dei Monti Lucretili - ECPv6.15.20//NONSGML v1.0//EN
CALSCALE:GREGORIAN
METHOD:PUBLISH
X-ORIGINAL-URL:https://parcolucretili.it
X-WR-CALDESC:Eventi per Parco dei Monti Lucretili
REFRESH-INTERVAL;VALUE=DURATION:PT1H
X-Robots-Tag:noindex
X-PUBLISHED-TTL:PT1H
BEGIN:VTIMEZONE
TZID:Europe/Rome
BEGIN:DAYLIGHT
TZOFFSETFROM:+0100
TZOFFSETTO:+0200
TZNAME:CEST
DTSTART:20240331T010000
END:DAYLIGHT
BEGIN:STANDARD
TZOFFSETFROM:+0200
TZOFFSETTO:+0100
TZNAME:CET
DTSTART:20241027T010000
END:STANDARD
BEGIN:DAYLIGHT
TZOFFSETFROM:+0100
TZOFFSETTO:+0200
TZNAME:CEST
DTSTART:20250330T010000
END:DAYLIGHT
BEGIN:STANDARD
TZOFFSETFROM:+0200
TZOFFSETTO:+0100
TZNAME:CET
DTSTART:20251026T010000
END:STANDARD
BEGIN:DAYLIGHT
TZOFFSETFROM:+0100
TZOFFSETTO:+0200
TZNAME:CEST
DTSTART:20260329T010000
END:DAYLIGHT
BEGIN:STANDARD
TZOFFSETFROM:+0200
TZOFFSETTO:+0100
TZNAME:CET
DTSTART:20261025T010000
END:STANDARD
BEGIN:DAYLIGHT
TZOFFSETFROM:+0100
TZOFFSETTO:+0200
TZNAME:CEST
DTSTART:20270328T010000
END:DAYLIGHT
BEGIN:STANDARD
TZOFFSETFROM:+0200
TZOFFSETTO:+0100
TZNAME:CET
DTSTART:20271031T010000
END:STANDARD
END:VTIMEZONE
BEGIN:VEVENT
DTSTART;TZID=Europe/Rome:20250619T173000
DTEND;TZID=Europe/Rome:20250619T230000
DTSTAMP:20260420T065710
CREATED:20250613T105509Z
LAST-MODIFIED:20250613T105509Z
UID:14051-1750354200-1750374000@parcolucretili.it
SUMMARY:Presentazione del Piano d'Assetto del Parco dell'Inviolata e della Guida
DESCRIPTION:📆 19 giugno 2025 – 🕐ore 17:00\nMuseo Lanciani\nL’INVIOLATA a 29 anni dalla legge istitutiva. \n\nL’immancabile appuntamento è per GIOVEDI’ 19 Giugno dalle 17.30 presso il Museo Rodolfo Lanciani di Montecelio.\n\n\nA quasi un trentennio dalla legge istitutiva del Parco Regionale Naturale e Archeologico dell’Inviolata\, il Parco Naturale dei Monti Lucretili presenta ufficialmente la guida naturalistica e archeologica dell’area protetta e la proposta di Piano d’Assetto.\n\n\nUn’occasione tecnica e appassionante per approfondire le bellezze dell’Inviolata e capire ancor di più le ragioni di una tutela sempre più attuale.\n\n\nIl convegno si aprirà alle 17.30 con i saluti istituzionali da parte di Marco Piergotti Commissario PNR Monti Lucretili\, il sindaco di Guidonia Montecelio Mauro Lombardo\, i consiglieri regionali Micol Grasselli e Marco Bertucci\, l’Assessore regionale Giancarlo Righini e l’On. Alessandro Palombi\, Deputato della Repubblica.\n\n\nSuccessivamente verranno analizzati gli aspetti tecnici\, naturalistici e archeologici con interventi dell’Ass. ANVA\, dell’Archeologo Zaccaria Mari e della società Temi che ha redatto il Piano d’assetto.\n\n\nA seguire\, il buffet offerto ai partecipanti della giornata e dalle 21 la splendida performance teatrale “Mantiq” di Iuzō T\, con l’artista Daniele Fedeli.
URL:https://parcolucretili.it/event/presentazione-del-piano-dassetto-del-parco-dellinviolata-e-della-guida/
LOCATION:Guidonia Montecelio\, Guidonia Montecelio\, Roma\, 00012\, Italia
CATEGORIES:Convegni,Manifestazioni
ATTACH;FMTTYPE=image/png:https://parcolucretili.it/wp-content/uploads/2025/06/00002ZBB.png
ORGANIZER;CN="Parco Naturale Regionale dei Monti Lucretili":MAILTO:info@parcolucretili.it
END:VEVENT
BEGIN:VEVENT
DTSTART;TZID=Europe/Rome:20250719T093000
DTEND;TZID=Europe/Rome:20250719T130000
DTSTAMP:20260420T065710
CREATED:20250708T104533Z
LAST-MODIFIED:20250708T104533Z
UID:14196-1752917400-1752930000@parcolucretili.it
SUMMARY:LA CULTURA DEL CANTICO DELLE CREATURE - Scandriglia
DESCRIPTION:🎉 VIII Centenario del Cantico delle Creature (1225–2025)\n📍 Santuario di Santa Maria delle Grazie – Ponticelli Sabino\n📅 Sabato 19 luglio 2025 – ore 9:30 \n🌿 LA CULTURA DEL CANTICO DELLE CREATURE\nUn evento culturale promosso dall’Istituto di Studi Sabini per celebrare gli 800 anni del celebre inno di San Francesco\, in uno dei luoghi più suggestivi della Sabina: il Santuario di Santa Maria delle Grazie\, fondato nel 1478\, crocevia di spiritualità\, arte e natura. \n✨ Un’occasione unica per riscoprire il legame profondo tra San Francesco e la Sabina\, attraverso un ricco programma di interventi multidisciplinari che esplorano il Cantico nella sua dimensione spirituale\, letteraria\, ecologica e culturale contemporanea. \n🎤 Interventi dalle ore 10:00 alle 12:00: \n\nP. Dario Mercado ofm – Il Cantico: spiritualità e pastoralità\nUmberto Massimiani – Il Cantico\, la Sabina\, l’ecologia\nMarco Testi – Il Cantico nella letteratura\nGiulia Silvestri – Il Cantico e la Via di Francesco come didattica\nMarco Piergotti – Il Cantico\, la natura\, il Parco Monti Lucretili\nGuido Carlucci – Il Cantico nel sentiero degli artisti\nCristina Paoletti – Oleoturismo\n\n🌍 Un evento immerso nella bellezza del paesaggio sabino\, tra i cammini spirituali dei Monti Lucretili\, San Nicola\, Santa Barbara e San Benedetto. \n🛡️ Con il patrocinio di: Regione Lazio\, Città Metropolitana di Roma Capitale\, Provincia di Rieti\, Comune di Scandriglia\, Parco Naturale Regionale dei Monti Lucretili\, Assofrantoi\, Via di Francesco nel Lazio\, BCC Roma. \n🔗 Scopri di più su: www.studisabini.org
URL:https://parcolucretili.it/event/la-cultura-del-cantico-delle-creature-scandriglia/
LOCATION:Scandriglia\, Via Umberto\, Scandriglia\, ROMA\, 02038\, Italy
CATEGORIES:Convegni,Evento Culturale
ATTACH;FMTTYPE=image/webp:https://parcolucretili.it/wp-content/uploads/2025/07/cantico-scandriglia.webp
ORGANIZER;CN="Parco Naturale Regionale dei Monti Lucretili":MAILTO:info@parcolucretili.it
END:VEVENT
BEGIN:VEVENT
DTSTART;TZID=Europe/Rome:20250921T090000
DTEND;TZID=Europe/Rome:20250921T180000
DTSTAMP:20260420T065710
CREATED:20250915T073220Z
LAST-MODIFIED:20250915T094634Z
UID:14428-1758445200-1758477600@parcolucretili.it
SUMMARY:Sicurezza in  Montagna con i Volontari dei Lucretili - Vicovaro
DESCRIPTION:Vicovaro 21 Settembre 2025 dalle ore 9.00 alle ore 18:00\nUna giornata dedicata alla sicurezza\, alla natura e al divertimento per i più piccoli\, con la partecipazione di istituzioni e associazioni del territorio\, a memoria del tragico incidente avvenuto presso il Canalone del Ronci. \nOre 9:30 – “Io gioco con Sam il Pompiere”\nAttività ludico-educative per bambini\nA cura dell’Associazione Nazionale Vigili del Fuoco in Congedo \nOre 11:30 – Convegno sulla Sicurezza in Montagna\nAprono i lavori: \n\nDott.ssa Laura Mattiucci – Commissario del Comune di Vicovaro\nDott. Marco Piergotti – Commissario Straordinario del Parco Naturale Regionale dei Monti Lucretili\nDott. Alessandro Palombi – Deputato della Repubblica Italiana\n\nInterverranno al convegno i rappresentanti istituzionali: \n\nVigili del Fuoco\nProtezione Civile\nSoccorso Alpino\nClub Alpino Italiano (CAI)\nGuardiaparco\n\nOre 14:30 – Escursione guidata\nVisita agli Eremi di San Benedetto\nIn collaborazione con Aniene Turismo \nOre 15:00 – Attrazioni e attività per bambini\nGiochi\, animazione e intrattenimento \n21 Settembre 2025 – Palazzo Cenci Bolognetti Via Regina Margherita\, 17\, 00029 Vicovaro (RM) \nPER INFORMAZIONI TEL. 346 0903102 \n  \n 
URL:https://parcolucretili.it/event/sicurezza-in-montagna-con-i-volontari-dei-lucretili-vicovaro/
LOCATION:Vicovaro\, Vicovaro
CATEGORIES:Convegni,Escursioni,Manifestazioni
ATTACH;FMTTYPE=image/jpeg:https://parcolucretili.it/wp-content/uploads/2025/09/Programma-evento-sicurezza-volontariato-defin.jpg
ORGANIZER;CN="Parco Naturale Regionale dei Monti Lucretili":MAILTO:info@parcolucretili.it
END:VEVENT
BEGIN:VEVENT
DTSTART;TZID=Europe/Rome:20250929T163000
DTEND;TZID=Europe/Rome:20250929T203000
DTSTAMP:20260420T065710
CREATED:20250925T111123Z
LAST-MODIFIED:20250925T111123Z
UID:14456-1759163400-1759177800@parcolucretili.it
SUMMARY:SFIDE DELL'OLIO SABINA DOP - PALOMBARA SABINA
DESCRIPTION:Gli operatori Sabina DOP incontrano le istituzioni e i consumatori \n📅 29 Settembre 2025\n📍 Castello Savelli\, Palombara Sabina (RM) \nProgramma dell’evento:\n🕠 Ore 16:30 – Registrazione dei partecipanti\nSaluti del Sindaco di Palombara Sabina\, Alessandro Palombi\nSaluti istituzionali in video messaggio del Ministro dell’Agricoltura e della Sovranità Alimentare\, Francesco Lollobrigida \nModera:\nCristina Ugolini – Direttore Generale di Agro Camera \nInterventi di: \n\nFrancesco Donati – Presidente Consorzio Sabina DOP\nFrancesco Olivieri – Docente Università Mercatorum\nDavide Arcuri – Presidente Consorzio Olio di Roma IGP\nMassimiliano Raffa – Presidente ARSIAL\nSimona Renata Baldassarre – Assessore Cultura\, Pari Opportunità\, Politiche giovanili e della Famiglia\, Servizio civile\n\nConclusioni:\nGiancarlo Righini – Assessore Bilancio\, Programmazione economica\, Agricoltura e sovranità alimentare\, Caccia e Pesca\, Parchi e Foreste \nAl termine\nShow Cooking A cura dell’Associazione Nonna’s Handmade Pasta with Grandma \nDurante l’evento sarà presente un tavolo degli Oli Sabina DOP\, gestito dagli assaggiatori della federazione EVOOSCHOOL \nRegistrazione obbligatoria su: www.sabinadop.it
URL:https://parcolucretili.it/event/sfide-dellolio-sabina-dop-palombara-sabina/
LOCATION:Castello Savelli Palombara Sabina\, Via Franco Pompili\, Palombara Sabina\, RM\, 00018\, Italy
CATEGORIES:Convegni
ATTACH;FMTTYPE=image/jpeg:https://parcolucretili.it/wp-content/uploads/2025/09/sfideoliodop.jpeg
ORGANIZER;CN="Parco Naturale Regionale dei Monti Lucretili":MAILTO:info@parcolucretili.it
END:VEVENT
BEGIN:VEVENT
DTSTART;TZID=Europe/Rome:20251221T150000
DTEND;TZID=Europe/Rome:20251221T190000
DTSTAMP:20260420T065710
CREATED:20251210T125538Z
LAST-MODIFIED:20251210T125559Z
UID:14639-1766329200-1766343600@parcolucretili.it
SUMMARY:Solstizio d'inverno - Marcellina
DESCRIPTION:Solstizio d’Inverno – Marcellina\, 21 dicembre 2025 \n\nIl Parco Naturale Regionale dei Monti Lucretili ti invita a celebrare il solstizio d’inverno con una giornata speciale all’insegna della natura e della sostenibilità! \nDove: Presso la parrocchia Cristo Re\, via Cristo Re 00010 Marcellina (RM)\nQuando: 21 dicembre 2025\, dalle ore 15:00 \nProgramma: \n\nSaluti istituzionali e incontro plenario del Forum della Carta Europea del Turismo Sostenibile\nMonitoraggio e rafforzamento operativo della CETS\nPresentazione delle Legge Regionale e attività di vigilanza ecologica\nCoro Gospel “Free Voices of Love”\n\nA seguire:\nBuffet con degustazione di prodotti tipici\, vin brulé\, castagne e cioccolato.\nIntrattenimento per bambini durante l’evento! \n“La luce del solstizio accende il Cammino verso una Nuova Stagione”
URL:https://parcolucretili.it/event/solstizio-dinverno-marcellina/
LOCATION:Centro Visita Marcellina\, Via Per San Polo\, Marcellina
CATEGORIES:Convegni,Manifestazione enogastronomica
ATTACH;FMTTYPE=image/jpeg:https://parcolucretili.it/wp-content/uploads/2025/12/locandina-soltstizio.jpg
ORGANIZER;CN="Parco Naturale Regionale dei Monti Lucretili":MAILTO:info@parcolucretili.it
END:VEVENT
BEGIN:VEVENT
DTSTART;TZID=Europe/Rome:20260418T150000
DTEND;TZID=Europe/Rome:20260418T223000
DTSTAMP:20260420T065710
CREATED:20260320T121727Z
LAST-MODIFIED:20260416T130931Z
UID:14844-1776524400-1776551400@parcolucretili.it
SUMMARY:RI-EQUILIBRI NATURALI E GASTRONOMIA LOCALE - MORICONE
DESCRIPTION:RI‑EQUILIBRI NATURALI & GASTRONOMIA LOCALE \nUna giornata dedicata ai sapori autentici della nostra terra\, con la presentazione del nuovo collarino per le bottiglie d’olio e la degustazione di carni locali\, tra innovazione\, convivialità e tradizione. \n18 APRILE – MORICONE\nPALAZZO BARONALE “Il Castello” \nPROGRAMMA\n15.00 – ANIMAZIONE PER BAMBINI\nDalle 10-30 alle 18.30 saranno organizzate attrazioni per bambini in compagnia di Mago Mario\, la mascotte del parco Federico la Lince e del Serv. Ed. Amb. del Parco \n16.00 – APERTURA PERCORSI ENOGASTRONOMICI\nTre istituti alberghieri allestiranno speciali sale tematiche con prodotti tipici locali. \n17.00 – MASTER CLASS ASSAGGIO OLIO\nIn vista dell’ampia partecipazione e del numero limitato dei posti è gradita la prenotazione al numero 335 6383924 – e.decino@parcolucretili.it \n17.30 – CONVEGNO\n“Cinghiali e Territorio: Equilibri Ecologici\, gestone della fauna e nuova opportunità \nInterverranno: \n\nMarco Piergotti – Presidente del Parco dei Monti Lucretili\nGiovanni Pascazi – Sindaco Comune di Moricone\nFabrizio Forti – Ditta incaricata prelevamento Cinghali PRIU\nDott. Vet. Alan Risolo – Ditta incaricata per il prelievo Piano di\neradicazione Parco dei Monti Lucretili\nLuciano Ortenzi – Docente Università della Tuscia\nAlessandro Palombi – Deputato della Repubblica\nGiancarlo Righini – Assessore Regione Lazio\nNicoletta Cutolo – Dirigente Ufficio Agricoltura e Turismo Sostenibile nelle Aree Protette\n\n19.00 – PRESENTAZIONE PIATTO SPECIALE \nPer celebrare la recente nomina della cucina Italiana patrimonio e materiale dell’UNESCO gli istituti alberghieri della zona offriranno un assaggio di un piatto speciale a base di erbe eduli e selvaggina
URL:https://parcolucretili.it/event/ri-equilibri-naturali-e-gastronomia-locale-moricone/
LOCATION:Moricone\, Piazza Sforza Cesarini\, MORICONE\, ROMA\, 00010\, Italy
CATEGORIES:Convegni,Manifestazione enogastronomica
ATTACH;FMTTYPE=image/jpeg:https://parcolucretili.it/wp-content/uploads/2026/03/Evento-_18-aprile_Moricone.jpg
ORGANIZER;CN="Parco Naturale Regionale dei Monti Lucretili":MAILTO:info@parcolucretili.it
END:VEVENT
BEGIN:VEVENT
DTSTART;TZID=Europe/Rome:20260418T153000
DTEND;TZID=Europe/Rome:20260418T163000
DTSTAMP:20260420T065711
CREATED:20260409T093708Z
LAST-MODIFIED:20260409T093708Z
UID:14907-1776526200-1776529800@parcolucretili.it
SUMMARY:Corso gratuito assaggio olio - Moricone
DESCRIPTION:Corso gratuito assaggio olio su prenotazione al n. 335 6383924\n\n18 aprile a Moricone – Palazzo Baronale “Il Castello”\nAll’interno della manifestazione “RI-EQUILIBRI NATURALI & GASTRONOMIA LOCALE”\nScopri i segreti dell’olio extravergine di oliva con una masterclass gratuita dedicata ai profumi\, ai sapori e alla qualità dell’oro verde del nostro territorio. Un’esperienza guidata da esperti assaggiatori. \nMASSIMO 30 POSTI – PRENOTAZIONE OBBLIGATORIA \nPER INFO E PRENOTAZIONI – N. 335 6383924  e-mail: e.decino@parcolucretili.it
URL:https://parcolucretili.it/event/corso-gratuito-assaggio-olio-moricone/
LOCATION:Moricone\, Piazza Sforza Cesarini\, MORICONE\, ROMA\, 00010\, Italy
CATEGORIES:Convegni,Manifestazione enogastronomica
ATTACH;FMTTYPE=image/jpeg:https://parcolucretili.it/wp-content/uploads/2026/04/Masterclass-olio-moricone.jpg
ORGANIZER;CN="Parco Naturale Regionale dei Monti Lucretili":MAILTO:info@parcolucretili.it
END:VEVENT
BEGIN:VEVENT
DTSTART;TZID=Europe/Rome:20260516T093000
DTEND;TZID=Europe/Rome:20260517T170000
DTSTAMP:20260420T065711
CREATED:20260415T072551Z
LAST-MODIFIED:20260415T072845Z
UID:14922-1778923800-1779037200@parcolucretili.it
SUMMARY:WORKSHOP Applicazione delle Linee guida per il recupero e la riabilitazione dei chirotteri
DESCRIPTION:Workshop nazionale sui chirotteri presso la sede del Parco in via Adriano Petrocchi\, 11\, Palombara Sabina \n\n16 Maggio \n\nApertura workshop: saluti istituzionali\nMarco Piergotti\, Presidente del Parco Naturale Regionale Monti Lucretili\nDr. Stefano Palomba\, Commissario Straordinario dell’Istituto Zooprofilattico Sperimentale del Lazio e della Toscana (IZSLT) “M. Aleandri” \nNormativa e gestione sanitaria \n10:00 Coordinamento delle attività legate alla rete Natura 2000 e alla tutela della biodiversità nella Regione Lazio\nRelatore: Emanuela Perna \n10:30 Il quadro normativo per il recupero dei chirotteri\nRelatore: Marco Scalisi \n11:00 Il ruolo del CRAS nella gestione della fauna selvatica\nRelatore: Francesca Manzari \n11:30 Pausa buffet \n12:00 Rischi sanitari per gli operatori a contatto con i chirotteri: la rabbia ed altre malattie infettive\nRelatore: Stefania Leopardi \n13:00 Pausa pranzo \n14:00 Il ruolo dell’IZSLT nella sorveglianza delle malattie nei chirotteri\nRelatore: Ida Ricci \n14:45 Valutazione clinica iniziale e criteri decisionali. Medicazioni e gestione delle lesioni\nRelatore: Clarissa Giacolini \n15:45 Farmaci\, dosaggi e diluizioni\nRelatore: Enrica Bellinello \n16:30 Chirurgia nei chirotteri: indicazioni e limiti\nRelatore: Tommaso Collaurire \n\n17 Maggio\nGestione\, cuccioli\, riabilitazione e rilascio \n09:00 I chirotteri italiani: biologia e sistematica\nRelatore: Denise Trombin \n09:30 La scheda d’ingresso: uno strumento fondamentale per la gestione del caso\nRelatore: Annalisa Callini \n10:00 Stabilizzazione e gestione in cattività\nRelatore: Francesca Gentili \n10:30 Pausa buffet \n11:00 Percorso di riabilitazione e recupero funzionale\, dall’alimentazione alla liberazione\nRelatore: Alessandra Tomanessin \n13:00 Pausa pranzo \n14:30 Tavola rotonda tra relatori\nModeratore: Marco Scalisi \n16:30 Conclusioni\nModeratore: Alessandra Tomanessin \n17:00 Chiusura workshop \n\n📅 16–17 maggio\n⚠️ Posti limitati \n👉 Costi e iscrizioni: www.tutelapipistrelli.it \nSCARICA IL PROGRAMMA
URL:https://parcolucretili.it/event/workshop-applicazione-delle-linee-guida-per-il-recupero-e-la-riabilitazione-dei-chirotteri/
LOCATION:Palombara Sabina\, Piazzale Giovanni Paolo II\, Palombara sabina\, Roma\, 00018\, Italia
CATEGORIES:Convegni
ATTACH;FMTTYPE=image/jpeg:https://parcolucretili.it/wp-content/uploads/2026/04/WORKSHOP-NAZIONALE-volantino-fronte-retro-A3-verticale_page-0001.jpg
ORGANIZER;CN="Parco Naturale Regionale dei Monti Lucretili":MAILTO:info@parcolucretili.it
END:VEVENT
BEGIN:VEVENT
DTSTART;TZID=Europe/Rome:20260530T103000
DTEND;TZID=Europe/Rome:20260530T170000
DTSTAMP:20260420T065711
CREATED:20260415T065742Z
LAST-MODIFIED:20260415T065742Z
UID:14918-1780137000-1780160400@parcolucretili.it
SUMMARY:Riscopriamo le nostre radici - Sabato 30 maggio 2026
DESCRIPTION:
URL:https://parcolucretili.it/event/riscopriamo-le-nostre-radici-sabato-30-maggio-2026/
LOCATION:Castello Savelli Palombara Sabina\, Via Franco Pompili\, Palombara Sabina\, RM\, 00018\, Italy
CATEGORIES:Convegni
ATTACH;FMTTYPE=image/jpeg:https://parcolucretili.it/wp-content/uploads/2026/04/convegno-palombara.jpeg
END:VEVENT
END:VCALENDAR