BEGIN:VCALENDAR
VERSION:2.0
PRODID:-//Parco dei Monti Lucretili - ECPv6.15.20//NONSGML v1.0//EN
CALSCALE:GREGORIAN
METHOD:PUBLISH
X-WR-CALNAME:Parco dei Monti Lucretili
X-ORIGINAL-URL:https://parcolucretili.it
X-WR-CALDESC:Eventi per Parco dei Monti Lucretili
REFRESH-INTERVAL;VALUE=DURATION:PT1H
X-Robots-Tag:noindex
X-PUBLISHED-TTL:PT1H
BEGIN:VTIMEZONE
TZID:Europe/Rome
BEGIN:DAYLIGHT
TZOFFSETFROM:+0100
TZOFFSETTO:+0200
TZNAME:CEST
DTSTART:20240331T010000
END:DAYLIGHT
BEGIN:STANDARD
TZOFFSETFROM:+0200
TZOFFSETTO:+0100
TZNAME:CET
DTSTART:20241027T010000
END:STANDARD
BEGIN:DAYLIGHT
TZOFFSETFROM:+0100
TZOFFSETTO:+0200
TZNAME:CEST
DTSTART:20250330T010000
END:DAYLIGHT
BEGIN:STANDARD
TZOFFSETFROM:+0200
TZOFFSETTO:+0100
TZNAME:CET
DTSTART:20251026T010000
END:STANDARD
BEGIN:DAYLIGHT
TZOFFSETFROM:+0100
TZOFFSETTO:+0200
TZNAME:CEST
DTSTART:20260329T010000
END:DAYLIGHT
BEGIN:STANDARD
TZOFFSETFROM:+0200
TZOFFSETTO:+0100
TZNAME:CET
DTSTART:20261025T010000
END:STANDARD
END:VTIMEZONE
BEGIN:VEVENT
DTSTART;TZID=Europe/Rome:20250719T093000
DTEND;TZID=Europe/Rome:20250719T130000
DTSTAMP:20260420T014836
CREATED:20250708T104533Z
LAST-MODIFIED:20250708T104533Z
UID:14196-1752917400-1752930000@parcolucretili.it
SUMMARY:LA CULTURA DEL CANTICO DELLE CREATURE - Scandriglia
DESCRIPTION:🎉 VIII Centenario del Cantico delle Creature (1225–2025)\n📍 Santuario di Santa Maria delle Grazie – Ponticelli Sabino\n📅 Sabato 19 luglio 2025 – ore 9:30 \n🌿 LA CULTURA DEL CANTICO DELLE CREATURE\nUn evento culturale promosso dall’Istituto di Studi Sabini per celebrare gli 800 anni del celebre inno di San Francesco\, in uno dei luoghi più suggestivi della Sabina: il Santuario di Santa Maria delle Grazie\, fondato nel 1478\, crocevia di spiritualità\, arte e natura. \n✨ Un’occasione unica per riscoprire il legame profondo tra San Francesco e la Sabina\, attraverso un ricco programma di interventi multidisciplinari che esplorano il Cantico nella sua dimensione spirituale\, letteraria\, ecologica e culturale contemporanea. \n🎤 Interventi dalle ore 10:00 alle 12:00: \n\nP. Dario Mercado ofm – Il Cantico: spiritualità e pastoralità\nUmberto Massimiani – Il Cantico\, la Sabina\, l’ecologia\nMarco Testi – Il Cantico nella letteratura\nGiulia Silvestri – Il Cantico e la Via di Francesco come didattica\nMarco Piergotti – Il Cantico\, la natura\, il Parco Monti Lucretili\nGuido Carlucci – Il Cantico nel sentiero degli artisti\nCristina Paoletti – Oleoturismo\n\n🌍 Un evento immerso nella bellezza del paesaggio sabino\, tra i cammini spirituali dei Monti Lucretili\, San Nicola\, Santa Barbara e San Benedetto. \n🛡️ Con il patrocinio di: Regione Lazio\, Città Metropolitana di Roma Capitale\, Provincia di Rieti\, Comune di Scandriglia\, Parco Naturale Regionale dei Monti Lucretili\, Assofrantoi\, Via di Francesco nel Lazio\, BCC Roma. \n🔗 Scopri di più su: www.studisabini.org
URL:https://parcolucretili.it/event/la-cultura-del-cantico-delle-creature-scandriglia/
LOCATION:Scandriglia\, Via Umberto\, Scandriglia\, ROMA\, 02038\, Italy
CATEGORIES:Convegni,Evento Culturale
ATTACH;FMTTYPE=image/webp:https://parcolucretili.it/wp-content/uploads/2025/07/cantico-scandriglia.webp
ORGANIZER;CN="Parco Naturale Regionale dei Monti Lucretili":MAILTO:info@parcolucretili.it
END:VEVENT
END:VCALENDAR