BEGIN:VCALENDAR
VERSION:2.0
PRODID:-//Parco dei Monti Lucretili - ECPv6.15.20//NONSGML v1.0//EN
CALSCALE:GREGORIAN
METHOD:PUBLISH
X-WR-CALNAME:Parco dei Monti Lucretili
X-ORIGINAL-URL:https://parcolucretili.it
X-WR-CALDESC:Eventi per Parco dei Monti Lucretili
REFRESH-INTERVAL;VALUE=DURATION:PT1H
X-Robots-Tag:noindex
X-PUBLISHED-TTL:PT1H
BEGIN:VTIMEZONE
TZID:Europe/Rome
BEGIN:DAYLIGHT
TZOFFSETFROM:+0100
TZOFFSETTO:+0200
TZNAME:CEST
DTSTART:20250330T010000
END:DAYLIGHT
BEGIN:STANDARD
TZOFFSETFROM:+0200
TZOFFSETTO:+0100
TZNAME:CET
DTSTART:20251026T010000
END:STANDARD
BEGIN:DAYLIGHT
TZOFFSETFROM:+0100
TZOFFSETTO:+0200
TZNAME:CEST
DTSTART:20260329T010000
END:DAYLIGHT
BEGIN:STANDARD
TZOFFSETFROM:+0200
TZOFFSETTO:+0100
TZNAME:CET
DTSTART:20261025T010000
END:STANDARD
BEGIN:DAYLIGHT
TZOFFSETFROM:+0100
TZOFFSETTO:+0200
TZNAME:CEST
DTSTART:20270328T010000
END:DAYLIGHT
BEGIN:STANDARD
TZOFFSETFROM:+0200
TZOFFSETTO:+0100
TZNAME:CET
DTSTART:20271031T010000
END:STANDARD
END:VTIMEZONE
BEGIN:VEVENT
DTSTART;TZID=Europe/Rome:20260530T103000
DTEND;TZID=Europe/Rome:20260530T170000
DTSTAMP:20260420T183000
CREATED:20260415T065742Z
LAST-MODIFIED:20260415T065742Z
UID:14918-1780137000-1780160400@parcolucretili.it
SUMMARY:Riscopriamo le nostre radici - Sabato 30 maggio 2026
DESCRIPTION:
URL:https://parcolucretili.it/event/riscopriamo-le-nostre-radici-sabato-30-maggio-2026/
LOCATION:Castello Savelli Palombara Sabina\, Via Franco Pompili\, Palombara Sabina\, RM\, 00018\, Italy
CATEGORIES:Convegni
ATTACH;FMTTYPE=image/jpeg:https://parcolucretili.it/wp-content/uploads/2026/04/convegno-palombara.jpeg
END:VEVENT
END:VCALENDAR