BEGIN:VCALENDAR
VERSION:2.0
PRODID:-//Parco dei Monti Lucretili - ECPv6.15.20//NONSGML v1.0//EN
CALSCALE:GREGORIAN
METHOD:PUBLISH
X-WR-CALNAME:Parco dei Monti Lucretili
X-ORIGINAL-URL:https://parcolucretili.it
X-WR-CALDESC:Eventi per Parco dei Monti Lucretili
REFRESH-INTERVAL;VALUE=DURATION:PT1H
X-Robots-Tag:noindex
X-PUBLISHED-TTL:PT1H
BEGIN:VTIMEZONE
TZID:Europe/Rome
BEGIN:DAYLIGHT
TZOFFSETFROM:+0100
TZOFFSETTO:+0200
TZNAME:CEST
DTSTART:20250330T010000
END:DAYLIGHT
BEGIN:STANDARD
TZOFFSETFROM:+0200
TZOFFSETTO:+0100
TZNAME:CET
DTSTART:20251026T010000
END:STANDARD
BEGIN:DAYLIGHT
TZOFFSETFROM:+0100
TZOFFSETTO:+0200
TZNAME:CEST
DTSTART:20260329T010000
END:DAYLIGHT
BEGIN:STANDARD
TZOFFSETFROM:+0200
TZOFFSETTO:+0100
TZNAME:CET
DTSTART:20261025T010000
END:STANDARD
BEGIN:DAYLIGHT
TZOFFSETFROM:+0100
TZOFFSETTO:+0200
TZNAME:CEST
DTSTART:20270328T010000
END:DAYLIGHT
BEGIN:STANDARD
TZOFFSETFROM:+0200
TZOFFSETTO:+0100
TZNAME:CET
DTSTART:20271031T010000
END:STANDARD
END:VTIMEZONE
BEGIN:VEVENT
DTSTART;TZID=Europe/Rome:20260324T100000
DTEND;TZID=Europe/Rome:20260324T123000
DTSTAMP:20260419T201530
CREATED:20260320T113849Z
LAST-MODIFIED:20260320T113849Z
UID:14841-1774346400-1774355400@parcolucretili.it
SUMMARY:Le avventure della Lince Federico - Monteflavio
DESCRIPTION:Il Parco Naturale Regionale dei Monti Lucretili presenta “Le avventure della Lince Federico”\, un incontro dedicato agli alunni della scuola primaria di Monteflavio. \n\nAttraverso la favola di Valentina Cosimati\, i bambini esploreranno biodiversità\, tutela dell’ambiente e identità del territorio. \nA seguire\, uno spettacolo di magia educativa a cura di Mario Mago Eventi. \nL’appuntamento è a Palombara Sabina 16 marzo alle ore 10:00. \nEvento dedicato ai bambini delle scuole
URL:https://parcolucretili.it/event/le-avventure-della-lince-federico-monteflavio/
LOCATION:Monteflavio\, Via di Monte Pellecchia\, Monteflavio\, Roma\, 00010\, Italia
CATEGORIES:Evento Culturale
ATTACH;FMTTYPE=image/jpeg:https://parcolucretili.it/wp-content/uploads/2026/03/Volantino-scuole-24-marzo-Monteflavio.jpg
ORGANIZER;CN="Parco Naturale Regionale dei Monti Lucretili":MAILTO:info@parcolucretili.it
END:VEVENT
END:VCALENDAR