BEGIN:VCALENDAR
VERSION:2.0
PRODID:-//Parco dei Monti Lucretili - ECPv6.15.20//NONSGML v1.0//EN
CALSCALE:GREGORIAN
METHOD:PUBLISH
X-WR-CALNAME:Parco dei Monti Lucretili
X-ORIGINAL-URL:https://parcolucretili.it
X-WR-CALDESC:Eventi per Parco dei Monti Lucretili
REFRESH-INTERVAL;VALUE=DURATION:PT1H
X-Robots-Tag:noindex
X-PUBLISHED-TTL:PT1H
BEGIN:VTIMEZONE
TZID:Europe/Rome
BEGIN:DAYLIGHT
TZOFFSETFROM:+0100
TZOFFSETTO:+0200
TZNAME:CEST
DTSTART:20250330T010000
END:DAYLIGHT
BEGIN:STANDARD
TZOFFSETFROM:+0200
TZOFFSETTO:+0100
TZNAME:CET
DTSTART:20251026T010000
END:STANDARD
BEGIN:DAYLIGHT
TZOFFSETFROM:+0100
TZOFFSETTO:+0200
TZNAME:CEST
DTSTART:20260329T010000
END:DAYLIGHT
BEGIN:STANDARD
TZOFFSETFROM:+0200
TZOFFSETTO:+0100
TZNAME:CET
DTSTART:20261025T010000
END:STANDARD
BEGIN:DAYLIGHT
TZOFFSETFROM:+0100
TZOFFSETTO:+0200
TZNAME:CEST
DTSTART:20270328T010000
END:DAYLIGHT
BEGIN:STANDARD
TZOFFSETFROM:+0200
TZOFFSETTO:+0100
TZNAME:CET
DTSTART:20271031T010000
END:STANDARD
END:VTIMEZONE
BEGIN:VEVENT
DTSTART;TZID=Europe/Rome:20260321T090000
DTEND;TZID=Europe/Rome:20260321T133000
DTSTAMP:20260419T201530
CREATED:20260217T102054Z
LAST-MODIFIED:20260318T080256Z
UID:14763-1774083600-1774099800@parcolucretili.it
SUMMARY:IMMERSIONE IN FORESTA - Giornata Internazionale delle foreste
DESCRIPTION:PRENOTAZIONI CHIUSE POSTI ESAURITI \nIl Parco regionale dei Monti Lucretili celebra il proprio patrimonio forestale invitandovi ad una esperienza immersiva nell’atmosfera del bosco\, nostro antico habitat naturale. Attraverso ritmi naturali attiveremo i sensi ed il controllo motorio\, per scoprire le proprietà benefiche delle piante ed abbassare i livelli di stress grazie al miglioramento della connessione mente-corpo. \n21 marzo 2026 ore 9:00\nLugo di svolgimento: Pineta di Monteflavio\nDurata Evento: dalle ore 9:00 alle ore 13:00 con degustazione finale di prodotti tipici locali\nPrenotazione: obbligatoria massimo 25 persone \nPer informazioni e prenotazioni:\nprenotazioni@parcolucretili.it \nWhatsapp al n. 342 6523671
URL:https://parcolucretili.it/event/immersione-in-foresta-giornata-internazionale-delle-foreste/
LOCATION:Pineta di Monteflavio\, Pineta di Monteflavio\, Monteflavio\, Roma\, 00010\, Italia
CATEGORIES:Escursioni,Evento Culturale
ATTACH;FMTTYPE=image/jpeg:https://parcolucretili.it/wp-content/uploads/2026/02/Immersioni-in-foresta-21-marzo-SOLDOUT.jpg
ORGANIZER;CN="Parco Naturale Regionale dei Monti Lucretili":MAILTO:info@parcolucretili.it
END:VEVENT
END:VCALENDAR