BEGIN:VCALENDAR
VERSION:2.0
PRODID:-//Parco dei Monti Lucretili - ECPv6.15.20//NONSGML v1.0//EN
CALSCALE:GREGORIAN
METHOD:PUBLISH
X-WR-CALNAME:Parco dei Monti Lucretili
X-ORIGINAL-URL:https://parcolucretili.it
X-WR-CALDESC:Eventi per Parco dei Monti Lucretili
REFRESH-INTERVAL;VALUE=DURATION:PT1H
X-Robots-Tag:noindex
X-PUBLISHED-TTL:PT1H
BEGIN:VTIMEZONE
TZID:Europe/Rome
BEGIN:DAYLIGHT
TZOFFSETFROM:+0100
TZOFFSETTO:+0200
TZNAME:CEST
DTSTART:20240331T010000
END:DAYLIGHT
BEGIN:STANDARD
TZOFFSETFROM:+0200
TZOFFSETTO:+0100
TZNAME:CET
DTSTART:20241027T010000
END:STANDARD
BEGIN:DAYLIGHT
TZOFFSETFROM:+0100
TZOFFSETTO:+0200
TZNAME:CEST
DTSTART:20250330T010000
END:DAYLIGHT
BEGIN:STANDARD
TZOFFSETFROM:+0200
TZOFFSETTO:+0100
TZNAME:CET
DTSTART:20251026T010000
END:STANDARD
BEGIN:DAYLIGHT
TZOFFSETFROM:+0100
TZOFFSETTO:+0200
TZNAME:CEST
DTSTART:20260329T010000
END:DAYLIGHT
BEGIN:STANDARD
TZOFFSETFROM:+0200
TZOFFSETTO:+0100
TZNAME:CET
DTSTART:20261025T010000
END:STANDARD
END:VTIMEZONE
BEGIN:VEVENT
DTSTART;TZID=Europe/Rome:20251229T183000
DTEND;TZID=Europe/Rome:20251229T200000
DTSTAMP:20260419T151650
CREATED:20251218T121802Z
LAST-MODIFIED:20251223T094753Z
UID:14656-1767033000-1767038400@parcolucretili.it
SUMMARY:Concerto di Natale - Moricone 29 dicembre
DESCRIPTION: Moricone 29 dicembre ore 18:30 \nNella splendida Chiesa di Santa Maria Assunta\, lasciati avvolgere dalla magia delle feste con il Concerto di Natale eseguito dal gruppo vocale Ergo Cantemus. \nUn momento unico di musica e spiritualità per chiudere l’anno in armonia. \nIngresso libero – Non mancare
URL:https://parcolucretili.it/event/concerto-di-natale-moricone-29-dicembre/
LOCATION:Moricone\, Piazza Sforza Cesarini\, MORICONE\, ROMA\, 00010\, Italy
CATEGORIES:Concerti,Evento musicale
ATTACH;FMTTYPE=image/jpeg:https://parcolucretili.it/wp-content/uploads/2025/12/29-dicembre_moricone-scaled.jpg
ORGANIZER;CN="Parco Naturale Regionale dei Monti Lucretili":MAILTO:info@parcolucretili.it
END:VEVENT
END:VCALENDAR